Workbook

Sheet PI skaičiuoklė
A1: Ūkio subjektų administracinės naštos ir prisitaikymo prie reguliavimo išlaidų vertinimo pinigine išraiška skaičiuoklė
A3: Eil. Nr. | B3: Teisės akto (teisės akto projekto) straipsnis (-iai), punktas (-ai) ir įpareigojimas | C3: Įpareigojimo vykdymo veiksmas | D3: Kilmė (Europos Sąjungos arba tarptautinė, nacionalinė) | E3: Tikslinė grupė (T) (ūkio subjektų skaičius, vnt.) | F3: Išlaidos darbuotojams (D), Eur | G3: Išlaidos investicijoms (I), Eur | H3: Išlaidos medžiagoms (M), Eur | I3: Išlaidos paslaugoms (darbams) įsigyti, Eur, (E) | J3: Pridėtinės išlaidos (O), Eur, (0,05*((6)+(7)+(8)+(9))) | K3: Įpareigojimo tikslinės grupės veikiančiam ūkio subjektui, vykdančiam ekonominę veiklą rinkos sąlygomis ir įgyvendinančiam įpareigojimą verslo praktikoje pagrįstomis sąnaudomis, sukeliama prisitaikymo prie reguliavimo išlaidų (toliau – prisitaikymo išlaidos) suma (S), Eur ((6) + (7) + (8) + (9) + (10) | L3: Įpareigojimo tikslinei grupei sukeliama prisitaikymo išlaidų suma (PI), Eur, ((5)*(11))
A4: 1 | B4: 2 | C4: 3 | D4: 4 | E4: 5 | F4: 6 | G4: 7 | H4: 8 | I4: 9 | J4: 10 | K4: 11 | L4: 12
A5: 1. | B5: Lietuvos Respublikos Įmonių ir įmonių grupių atskaitomybės įstatymas
A6: 1.1. | B6: 19 straipsnis 1. Įmonės, kurių vertybiniais popieriais leista prekiauti reguliuojamoje rinkoje, išskyrus labai mažas įmones, vadovybės ataskaitoje turi pateikti šio įstatymo 20 straipsnio 1 ir 2 dalyse nurodytą informaciją, informaciją tvarumo klausimais, informaciją apie bendrovių valdyseną ir informaciją apie atlygį. | D6: Europos Sąjungos | E6: 195
A7: 1.1.1. | C7: Informaciją tvarumo klausimais vadovybės ataskaitoje privalo teikti: 1) visos įmonės, kurių vertybiniais popieriais leista prekiauti reguliuojamoje rinkoje (išskyrus labai mažas įmones); 2) visos didelės įmonės; 3) didelių įmonių grupių patronuojančiosios įmonės. | F7: ='Išlaidos darbuotojams'!G9 -> 1182.68 | G7: ='Išlaidos investicijoms'!D8 -> 0 | H7: ='Išlaidos medžiagoms'!E8 -> 0 | I7: ='Išlaidos paslaugoms'!C8 -> 10000 | J7: =0.05*(F7+G7+H7+I7) -> 559.134 | K7: =SUM(F7:J7) -> 11741.814
B8: Iš viso prisitaikymo išlaidų pagal įpareigojimą A | L8: =SUM(K7:K7)*E6 -> 2289653.7
A9: 1.2. | B9: Straipsnis (-iai), punktas (-ai) ir įpareigojimas | E9: 0
A10: 1.2.1. | C10: Veiksmas B1 | F10: 0 | G10: ='Išlaidos investicijoms'!D19 -> 0 | H10: ='Išlaidos medžiagoms'!E19 -> 0 | I10: ='Išlaidos medžiagoms'!E19 -> 0 | J10: =0.05*(F10+G10+H10+I10) -> 0 | K10: =SUM(F10:J10) -> 0
A11: 1.2.2. | C11: Veiksmas B2 | F11: ='Išlaidos darbuotojams'!G26 -> 0 | G11: ='Išlaidos investicijoms'!D23 -> 0 | H11: ='Išlaidos medžiagoms'!E23 -> 0 | I11: ='Išlaidos medžiagoms'!E23 -> 0 | J11: =0.05*(F11+G11+H11+I11) -> 0 | K11: =SUM(F11:J11) -> 0
A12: ... | C12: .......
B13: Iš viso prisitaikymo išlaidų pagal įpareigojimą B | L13: =SUM(K10:K11)*E9 -> 0
B14: ... | L14: ...
B15: Iš viso prisitaikymo išlaidų pagal galiojantį teisės aktą, Eur | L15: =SUM(L8,L13) -> 2289653.7
A16: 2. | B16: LIETUVOS RESPUBLIKOS ĮMONIŲ IR ĮMONIŲ GRUPIŲ ATSKAITOMYBĖS ĮSTATYMO NR. XIV-2811 2, 3, 5, 19, 20, 21, 22, 23, 26, 36, 37, 39, 40, 41 STRAIPSNIŲ PAKEITIMO IR ĮSTATYMO PAPILDYMO 21-1, 21-2 STRAIPSNIAIS ĮSTATYMO PROJEKTAS
A17: 2.1. | B17: 19 straipsnis. 1. Įmonė, kurios vidutinis metinis darbuotojų skaičius per finansinius metus viršija 1 000 ir pardavimo grynosios pajamos viršija 450 000 000 eurų, vadovybės ataskaitoje turi pateikti šio įstatymo 20 straipsnio 1 ir 2 dalyse nurodytą informaciją ir informaciją tvarumo klausimais. Jeigu tokia įmonė yra įmonė, kurios vertybiniais popieriais leista prekiauti reguliuojamoje rinkoje, vadovybės ataskaitoje ji turi pateikti ir informaciją apie bendrovių valdyseną bei informaciją apie atlygį. | D17: Europos Sąjungos | E17: 0
A18: 2.1.1. | C18: Informaciją tvarumo klausimais vadovybės ataskaitoje privalo teikti įmonės, kurių vidutinis metinis darbuotojų skaičius per finansinius metus viršija 1 000 ir pardavimo grynosios pajamos viršija 450 000 000 eurų. | F18: ='Išlaidos darbuotojams'!G40 -> 1182.68 | G18: ='Išlaidos investicijoms'!D37 -> 0 | H18: ='Išlaidos medžiagoms'!E40 -> 0 | I18: ='Išlaidos paslaugoms'!C39 -> 10000 | J18: =0.05*(F18+G18+H18+I18) -> 559.134 | K18: =SUM(F18:J18) -> 11741.814
B19: Iš viso prisitaikymo išlaidų pagal įpareigojimą A | L19: =SUM(K18:K18)*E17 -> 0
A20: 2.2. | B20: Straipsnis (-iai), punktas (-ai) ir įpareigojimas | E20: 0
A21: 2.2.1. | C21: Veiksmas B1 | F21: ='Išlaidos darbuotojams'!G52 -> 0 | G21: ='Išlaidos investicijoms'!D48 -> 0 | H21: ='Išlaidos medžiagoms'!E51 -> 0 | I21: ='Išlaidos paslaugoms'!C50 -> 0 | J21: =0.05*(F21+G21+H21+I21) -> 0 | K21: =SUM(F21:J21) -> 0
A22: 2.2.2. | C22: Veiksmas B2 | F22: ='Išlaidos darbuotojams'!G57 -> 0 | G22: ='Išlaidos investicijoms'!D52 -> 0 | H22: ='Išlaidos medžiagoms'!E55 -> 0 | I22: ='Išlaidos paslaugoms'!C54 -> 0 | J22: =0.05*(F22+G22+H22+I22) -> 0 | K22: =SUM(F22:J22) -> 0
A23: ... | C23: ...
B24: Iš viso prisitaikymo išlaidų pagal įpareigojimą B | L24: =SUM(K21:K22)*E20 -> 0
B25: ...
B26: Iš viso prisitaikymo išlaidų pagal teisės akto projektą, Eur | L26: =SUM(L19,L24) -> 0
B27: Teisės akto projektu numatomas sukelti prisitaikymo išlaidų pokytis, Eur | L27: =+L26-L15 -> -2289653.7
B31: Atskaitomybės, audito, turto vertinimo ir
B32: nemokumo politikos departamento
B33: Atskaitomybės ir apskaitos metodologijos skyrius
B34: Greta Lipskytė

Sheet Išlaidos darbuotojams
A1: Išlaidų darbuotojams (D) apskaičiavimas (galiojantis teisės aktas)
A2: Teisės akto straipsnis, punktas ir įpareigojimas | B2: Darbuotojas | C2: Darbuotojų skaičius, vnt. | D2: Darbuotojo vidutinio valandinio darbo užmokesčio ir nuo jo darbdavio mokamų mokesčių suma, Eur/val. | E2: Įpareigojimo vykdymo veiksmui (toliau – Veiksmas) vykdyti skirtas darbuotojo laikas, val. | F2: Veiksmo atlikimo dažnis per metus | G2: Iš viso išlaidų darbuotojams (D), Eur
A3: 1 | B3: 2 | C3: 3 | D3: 4 | E3: 5 | F3: 6 | G3: 7
A4: ='PI skaičiuoklė'!B6 -> 19 straipsnis 1. Įmonės, kurių vertybiniais popieriais leista prekiauti reguliuojamoje rinkoje, išskyrus labai mažas įmones, vadovybės ataskaitoje turi pateikti šio įstatymo 20 straipsnio 1 ir 2 dalyse nurodytą informaciją, informaciją tvarumo klausimais, informaciją apie bendrovių valdyseną ir informaciją apie atlygį.
A5: ='PI skaičiuoklė'!C7 -> Informaciją tvarumo klausimais vadovybės ataskaitoje privalo teikti: 1) visos įmonės, kurių vertybiniais popieriais leista prekiauti reguliuojamoje rinkoje (išskyrus labai mažas įmones); 2) visos didelės įmonės; 3) didelių įmonių grupių patronuojančiosios įmonės.
B6: Finansų specialistai | C6: 1 | D6: 16.06 | E6: 56 | F6: 1 | G6: =+C6*D6*E6*F6 -> 899.36
B7: Juridinio asmens vadovas | C7: 1 | D7: 23.61 | E7: 12 | F7: 1 | G7: =+C7*D7*E7*F7 -> 283.32
B8: ...
A9: Iš viso D išlaidų veiksmui A1, Eur | G9: =SUM(G6:G8) -> 1182.68
A10: ='PI skaičiuoklė'!#REF! -> #REF!
B11: A2.1 | C11: 0 | D11: 0 | E11: 0 | F11: 0 | G11: =+C11*D11*E11*F11 -> 0
B12: A2.2 | C12: 0 | D12: 0 | E12: 0 | F12: 0 | G12: =+C12*D12*E12*F12 -> 0
B13: ...
A14: Iš viso D išlaidų veiksmui A2, Eur | G14: =SUM(G11:G13) -> 0
A15: Iš viso D išlaidų pagal įpareigojimą A, Eur | G15: =SUM(G9,G14) -> 1182.68
A16: ='PI skaičiuoklė'!B9 -> Straipsnis (-iai), punktas (-ai) ir įpareigojimas
A17: ='PI skaičiuoklė'!C10 -> Veiksmas B1
B18: B1.1 | C18: 0 | D18: 0 | E18: 0 | F18: 0 | G18: =+C18*D18*E18*F18 -> 0
B19: B1.2 | C19: 0 | D19: 0 | E19: 0 | F19: 0 | G19: =+C19*D19*E19*F19 -> 0
B20: ...
A21: Iš viso D išlaidų veiksmui B1, Eur | G21: =SUM(G18:G20) -> 0
A22: ='PI skaičiuoklė'!C11 -> Veiksmas B2
B23: B2.1 | C23: 0 | D23: 0 | E23: 0 | F23: 0 | G23: =+C23*D23*E23*F23 -> 0
B24: B2.2 | C24: 0 | D24: 0 | E24: 0 | F24: 0 | G24: =+C24*D24*E24*F24 -> 0
B25: ...
A26: Iš viso D išlaidų veiksmui B2, Eur | G26: =SUM(G23:G25) -> 0
A27: Iš viso D išlaidų pagal įpareigojimą B, Eur | G27: =SUM(G21,G26) -> 0
A32: Išlaidų darbuotojams (D) apskaičiavimas (teisės akto projektas)
A33: Teisės akto projekto straipsnis, punktas ir įpareigojimas | B33: Darbuotojas | C33: Darbuotojų skaičius, vnt. | D33: Darbuotojo vidutinio valandinio darbo užmokesčio ir nuo jo darbdavio mokamų mokesčių suma, Eur/val. | E33: Įpareigojimo vykdymo veiksmui (toliau – Veiksmas) vykdyti skirtas darbuotojo laikas, val. | F33: Veiksmo atlikimo dažnis per metus | G33: Iš viso išlaidų darbuotojams (D), Eur
A34: 1 | B34: 2 | C34: 3 | D34: 4 | E34: 5 | F34: 6 | G34: 7
A35: ='PI skaičiuoklė'!B17 -> 19 straipsnis. 1. Įmonė, kurios vidutinis metinis darbuotojų skaičius per finansinius metus viršija 1 000 ir pardavimo grynosios pajamos viršija 450 000 000 eurų, vadovybės ataskaitoje turi pateikti šio įstatymo 20 straipsnio 1 ir 2 dalyse nurodytą informaciją ir informaciją tvarumo klausimais. Jeigu tokia įmonė yra įmonė, kurios vertybiniais popieriais leista prekiauti reguliuojamoje rinkoje, vadovybės ataskaitoje ji turi pateikti ir informaciją apie bendrovių valdyseną bei informaciją apie atlygį.
A36: ='PI skaičiuoklė'!C18 -> Informaciją tvarumo klausimais vadovybės ataskaitoje privalo teikti įmonės, kurių vidutinis metinis darbuotojų skaičius per finansinius metus viršija 1 000 ir pardavimo grynosios pajamos viršija 450 000 000 eurų.
B37: Finansų specialistai | C37: 1 | D37: 16.06 | E37: 56 | F37: 1 | G37: =+C37*D37*E37*F37 -> 899.36
B38: Juridinio asmens vadovas | C38: 1 | D38: 23.61 | E38: 12 | F38: 1 | G38: =+C38*D38*E38*F38 -> 283.32
B39: ...
A40: Iš viso D išlaidų veiksmui A1, Eur | G40: =SUM(G37:G39) -> 1182.68
A41: ='PI skaičiuoklė'!#REF! -> #REF!
B42: A2.1 | C42: 0 | D42: 0 | E42: 0 | F42: 0 | G42: =+C42*D42*E42*F42 -> 0
B43: A2.2 | C43: 0 | D43: 0 | E43: 0 | F43: 0 | G43: =+C43*D43*E43*F43 -> 0
B44: ...
...

Sheet Išlaidos investicijoms
A1: Išlaidų investicijoms (I) apskaičiavimas (galiojantis teisės aktas)
A2: Teisės akto straipsnis, punktas ir įpareigojimas | B2: Objektas | D2: Išlaidos investicijoms (I), Eur
A3: 1 | B3: 2 | D3: 3
A4: ='PI skaičiuoklė'!B6 -> 19 straipsnis 1. Įmonės, kurių vertybiniais popieriais leista prekiauti reguliuojamoje rinkoje, išskyrus labai mažas įmones, vadovybės ataskaitoje turi pateikti šio įstatymo 20 straipsnio 1 ir 2 dalyse nurodytą informaciją, informaciją tvarumo klausimais, informaciją apie bendrovių valdyseną ir informaciją apie atlygį.
A5: ='PI skaičiuoklė'!C7 -> Informaciją tvarumo klausimais vadovybės ataskaitoje privalo teikti: 1) visos įmonės, kurių vertybiniais popieriais leista prekiauti reguliuojamoje rinkoje (išskyrus labai mažas įmones); 2) visos didelės įmonės; 3) didelių įmonių grupių patronuojančiosios įmonės.
B6: A1.1 | C6: 0 | D6: =+C6 -> 0
B7: A1.2 | C7: 0 | D7: =+C7 -> 0
A8: Iš viso išlaidų investicijoms pagal veiksmą A1 | D8: =SUM(D6:D7) -> 0
A9: ='PI skaičiuoklė'!#REF! -> #REF!
B10: A2.1 | C10: 0 | D10: =+C10 -> 0
B11: A2.2 | C11: 0 | D11: =+C11 -> 0
A12: Iš viso išlaidų investicijoms pagal veiksmą A2 | D12: =SUM(D10:D11) -> 0
A13: ... | D13: ...
A14: Iš viso išlaidų investicijoms pagal įpareigojimą A | D14: =SUM(D8,D12) -> 0
A15: ='PI skaičiuoklė'!B9 -> Straipsnis (-iai), punktas (-ai) ir įpareigojimas
A16: ='PI skaičiuoklė'!C10 -> Veiksmas B1
B17: B1.1 | C17: 0 | D17: =+C17 -> 0
B18: B1.2 | C18: 0 | D18: =+C18 -> 0
A19: Iš viso išlaidų investicijoms pagal veiksmą B1 | D19: =SUM(D17:D18) -> 0
A20: ='PI skaičiuoklė'!C11 -> Veiksmas B2
B21: B2.1 | C21: 0 | D21: =+C21 -> 0
B22: B2.2 | C22: 0 | D22: =+C22 -> 0
A23: Iš viso išlaidų investicijoms pagal veiksmą B2 | D23: =SUM(D21:D22) -> 0
B24: ... | D24: ....
A25: Iš viso išlaidų investicijoms pagal įpareigojimą B | D25: =SUM(D19,D23) -> 0
A30: Išlaidų investicijoms (I) apskaičiavimas (teisės akto projektas)
A31: Teisės akto projekto straipsnis, punktas ir įpareigojimas | B31: Objektas | D31: Išlaidos investicijoms (I), Eur
A32: 1 | B32: 2 | D32: 3
A33: ='PI skaičiuoklė'!B17 -> 19 straipsnis. 1. Įmonė, kurios vidutinis metinis darbuotojų skaičius per finansinius metus viršija 1 000 ir pardavimo grynosios pajamos viršija 450 000 000 eurų, vadovybės ataskaitoje turi pateikti šio įstatymo 20 straipsnio 1 ir 2 dalyse nurodytą informaciją ir informaciją tvarumo klausimais. Jeigu tokia įmonė yra įmonė, kurios vertybiniais popieriais leista prekiauti reguliuojamoje rinkoje, vadovybės ataskaitoje ji turi pateikti ir informaciją apie bendrovių valdyseną bei informaciją apie atlygį.
A34: ='PI skaičiuoklė'!C18 -> Informaciją tvarumo klausimais vadovybės ataskaitoje privalo teikti įmonės, kurių vidutinis metinis darbuotojų skaičius per finansinius metus viršija 1 000 ir pardavimo grynosios pajamos viršija 450 000 000 eurų.
B35: A1.1 | C35: 0 | D35: =+C35 -> 0
B36: A1.2 | C36: 0 | D36: =+C36 -> 0
A37: Iš viso išlaidų investicijoms pagal veiksmą A1 | D37: =SUM(D35:D36) -> 0
A38: ='PI skaičiuoklė'!#REF! -> #REF!
B39: A2.1 | C39: 0 | D39: =+C39 -> 0
B40: A2.2 | C40: 0 | D40: =+C40 -> 0
A41: Iš viso išlaidų investicijoms pagal veiksmą A2 | D41: =SUM(D39:D40) -> 0
A42: ... | D42: ...
A43: Iš viso išlaidų investicijoms pagal įpareigojimą A | D43: =SUM(D37,D41) -> 0
A44: ='PI skaičiuoklė'!B20 -> Straipsnis (-iai), punktas (-ai) ir įpareigojimas
...

Sheet Išlaidos medžiagoms
A1: Išlaidų medžiagoms (M) apskaičiavimas (galiojantis teisės aktas)
A2: Teisės akto straipsnis, punktas ir įpareigojimas | B2: Medžiaga arba medžiagų grupė | C2: Medžiagos kiekis / metus (svorio ar tūrio matais arba vienetais) (Q) | D2: Medžiagos (medžiagų) grupės kaina už kiekio vienetą (K) (Eur už svorio ar tūrio matą arba vienetą), Eur/kiekio matą | E2: Išlaidos medžiagoms (M), Eur
A3: 1 | B3: 2 | C3: 3 | D3: 4 | E3: 5
A4: ='PI skaičiuoklė'!B6 -> 19 straipsnis 1. Įmonės, kurių vertybiniais popieriais leista prekiauti reguliuojamoje rinkoje, išskyrus labai mažas įmones, vadovybės ataskaitoje turi pateikti šio įstatymo 20 straipsnio 1 ir 2 dalyse nurodytą informaciją, informaciją tvarumo klausimais, informaciją apie bendrovių valdyseną ir informaciją apie atlygį.
A5: ='PI skaičiuoklė'!C7 -> Informaciją tvarumo klausimais vadovybės ataskaitoje privalo teikti: 1) visos įmonės, kurių vertybiniais popieriais leista prekiauti reguliuojamoje rinkoje (išskyrus labai mažas įmones); 2) visos didelės įmonės; 3) didelių įmonių grupių patronuojančiosios įmonės.
B6: A1.1 | C6: 0 | D6: 0 | E6: =+C6*D6 -> 0
B7: A1.2 | C7: 0 | D7: 0 | E7: =+C7*D7 -> 0
A8: Iš viso išlaidų medžiagoms pagal veiksmą A1 | E8: =SUM(E6:E7) -> 0
A9: ='PI skaičiuoklė'!#REF! -> #REF!
B10: A2.1 | C10: 0 | D10: 0 | E10: =+C10*D10 -> 0
B11: A2.2 | C11: 0 | D11: 0 | E11: =+C11*D11 -> 0
A12: Iš viso išlaidų medžiagoms pagal veiksmą A2 | E12: =SUM(E10:E11) -> 0
B13: ... | C13: 0 | E13: …
A14: Iš viso išlaidų medžiagoms pagal įpareigojimą A | E14: =SUM(E8,E12) -> 0
A15: ='PI skaičiuoklė'!B9 -> Straipsnis (-iai), punktas (-ai) ir įpareigojimas
A16: ='PI skaičiuoklė'!C10 -> Veiksmas B1
B17: B1.1 | C17: 0 | D17: 0 | E17: =+C17*D17 -> 0
B18: B1.2 | C18: 0 | D18: 0 | E18: =+C18*D18 -> 0
A19: Iš viso išlaidų medžiagoms pagal veiksmą B1 | E19: =SUM(E17:E18) -> 0
A20: ='PI skaičiuoklė'!C11 -> Veiksmas B2
B21: B2.1 | C21: 0 | D21: 0 | E21: =+C21*D21 -> 0
B22: B2.2 | C22: 0 | D22: 0 | E22: =+C22*D22 -> 0
A23: Iš viso išlaidų medžiagoms pagal veiksmą B2 | E23: =SUM(E21:E22) -> 0
B24: ... | E24: ....
A25: Iš viso išlaidų medžiagoms pagal įpareigojimą B | E25: =SUM(E19,E23) -> 0
A33: Išlaidų medžiagoms (M) apskaičiavimas (teisės akto projektas)
A34: Teisės akto projekto straipsnis, punktas ir įpareigojimas | B34: Medžiaga arba medžiagų grupė | C34: Medžiagos kiekis / metus (svorio ar tūrio matais arba vienetais) (Q) | D34: Medžiagos (medžiagų) grupės kaina už kiekio vienetą (K) (Eur už svorio ar tūrio matą arba vienetą), Eur/kiekio matą | E34: Išlaidos medžiagoms (M), Eur
A35: 1 | B35: 2 | C35: 3 | D35: 4 | E35: 5
A36: ='PI skaičiuoklė'!B17 -> 19 straipsnis. 1. Įmonė, kurios vidutinis metinis darbuotojų skaičius per finansinius metus viršija 1 000 ir pardavimo grynosios pajamos viršija 450 000 000 eurų, vadovybės ataskaitoje turi pateikti šio įstatymo 20 straipsnio 1 ir 2 dalyse nurodytą informaciją ir informaciją tvarumo klausimais. Jeigu tokia įmonė yra įmonė, kurios vertybiniais popieriais leista prekiauti reguliuojamoje rinkoje, vadovybės ataskaitoje ji turi pateikti ir informaciją apie bendrovių valdyseną bei informaciją apie atlygį.
A37: ='PI skaičiuoklė'!C18 -> Informaciją tvarumo klausimais vadovybės ataskaitoje privalo teikti įmonės, kurių vidutinis metinis darbuotojų skaičius per finansinius metus viršija 1 000 ir pardavimo grynosios pajamos viršija 450 000 000 eurų.
B38: A1.1 | C38: 0 | D38: 0 | E38: =+C38*D38 -> 0
B39: A1.2 | C39: 0 | D39: 0 | E39: =+C39*D39 -> 0
A40: Iš viso išlaidų medžiagoms pagal veiksmą A1 | E40: =SUM(E38:E39) -> 0
A41: ='PI skaičiuoklė'!#REF! -> #REF!
B42: A2.1 | C42: 0 | D42: 0 | E42: =+C42*D42 -> 0
B43: A2.2 | C43: 0 | D43: 0 | E43: =+C43*D43 -> 0
A44: Iš viso išlaidų medžiagoms pagal veiksmą A2 | E44: =SUM(E42:E43) -> 0
B45: ... | E45: …
A46: Iš viso išlaidų medžiagoms pagal įpareigojimą A | E46: =SUM(E40,E44) -> 0
A47: ='PI skaičiuoklė'!B20 -> Straipsnis (-iai), punktas (-ai) ir įpareigojimas
...

Sheet Išlaidos paslaugoms
A1: Išlaidų iš išorės įsigyjamoms paslaugoms (darbams) (E) apskaičiavimas (galiojantis teisės aktas)
A2: Teisės akto straipsnis, punktas ir įpareigojimas | B2: Iš išorės įsigyjamos paslaugos (darbai) | C2: Paslaugų (darbų) kaina (E), Eur
A3: 1 | B3: 2 | C3: 3
A4: ='PI skaičiuoklė'!B6 -> 19 straipsnis 1. Įmonės, kurių vertybiniais popieriais leista prekiauti reguliuojamoje rinkoje, išskyrus labai mažas įmones, vadovybės ataskaitoje turi pateikti šio įstatymo 20 straipsnio 1 ir 2 dalyse nurodytą informaciją, informaciją tvarumo klausimais, informaciją apie bendrovių valdyseną ir informaciją apie atlygį.
A5: ='PI skaičiuoklė'!C7 -> Informaciją tvarumo klausimais vadovybės ataskaitoje privalo teikti: 1) visos įmonės, kurių vertybiniais popieriais leista prekiauti reguliuojamoje rinkoje (išskyrus labai mažas įmones); 2) visos didelės įmonės; 3) didelių įmonių grupių patronuojančiosios įmonės.
B6: Tvarumo atskaitomybės užtikrinimas | C6: 10000
B7: A1.2 | C7: 0
A8: Iš viso išlaidų iš išorės įsigyjamoms paslaugoms (darbams) pagal veiksmą A1 | C8: =SUM(C6:C7) -> 10000
A9: ='PI skaičiuoklė'!#REF! -> #REF!
B10: A2.1 | C10: 0
B11: A2.2 | C11: 0
A12: Iš viso išlaidų iš išorės įsigyjamoms paslaugoms (darbams) pagal veiksmą A2 | C12: =SUM(C10:C11) -> 0
B13: ...
A14: Iš viso išlaidų iš išorės įsigyjamoms paslaugoms (darbams) pagal įpareigojimą A | C14: =SUM(C8,C12) -> 10000
A15: ='PI skaičiuoklė'!B9 -> Straipsnis (-iai), punktas (-ai) ir įpareigojimas
A16: ='PI skaičiuoklė'!C10 -> Veiksmas B1
B17: B1.1 | C17: 0
B18: B1.2 | C18: 0
A19: Iš viso išlaidų iš išorės įsigyjamoms paslaugoms (darbams) pagal veiksmą B1 | C19: =SUM(C17:C18) -> 0
A20: ='PI skaičiuoklė'!C11 -> Veiksmas B2
B21: B2.1 | C21: 0
B22: B2.2 | C22: 0
A23: Iš viso išlaidų iš išorės įsigyjamoms paslaugoms (darbams) pagal veiksmą B2 | C23: =SUM(C21:C22) -> 0
B24: ... | C24: ...
A25: Iš viso išlaidų iš išorės įsigyjamoms paslaugoms (darbams) pagal įpareigojimą B | C25: =SUM(C19,C23) -> 0
A32: Išlaidų iš išorės įsigyjamoms paslaugoms (darbams) (E) apskaičiavimas (teisės akto projektas)
A33: Teisės akto projekto straipsnis, punktas ir įpareigojimas | B33: Iš išorės įsigyjamos paslaugos (darbai) | C33: Paslaugų (darbų) kaina (E), Eur
A34: 1 | B34: 2 | C34: 3
A35: ='PI skaičiuoklė'!B17 -> 19 straipsnis. 1. Įmonė, kurios vidutinis metinis darbuotojų skaičius per finansinius metus viršija 1 000 ir pardavimo grynosios pajamos viršija 450 000 000 eurų, vadovybės ataskaitoje turi pateikti šio įstatymo 20 straipsnio 1 ir 2 dalyse nurodytą informaciją ir informaciją tvarumo klausimais. Jeigu tokia įmonė yra įmonė, kurios vertybiniais popieriais leista prekiauti reguliuojamoje rinkoje, vadovybės ataskaitoje ji turi pateikti ir informaciją apie bendrovių valdyseną bei informaciją apie atlygį.
A36: ='PI skaičiuoklė'!C18 -> Informaciją tvarumo klausimais vadovybės ataskaitoje privalo teikti įmonės, kurių vidutinis metinis darbuotojų skaičius per finansinius metus viršija 1 000 ir pardavimo grynosios pajamos viršija 450 000 000 eurų.
B37: Tvarumo atskaitomybės užtikrinimas | C37: 10000
B38: A1.2 | C38: 0
A39: Iš viso išlaidų iš išorės įsigyjamoms paslaugoms (darbams) pagal veiksmą A1 | C39: =SUM(C37:C38) -> 10000
A40: ='PI skaičiuoklė'!#REF! -> #REF!
B41: A2.1 | C41: 0
B42: A2.2 | C42: 0
A43: Iš viso išlaidų iš išorės įsigyjamoms paslaugoms (darbams) pagal veiksmą A2 | C43: =SUM(C41:C42) -> 0
B44: ...
A45: Iš viso išlaidų iš išorės įsigyjamoms paslaugoms (darbams) pagal įpareigojimą A | C45: =SUM(C39,C43) -> 10000
A46: ='PI skaičiuoklė'!B20 -> Straipsnis (-iai), punktas (-ai) ir įpareigojimas
...
