Workbook

Sheet PI skaičiuoklė
A1: Ūkio subjektų administracinės naštos ir prisitaikymo prie reguliavimo išlaidų vertinimo pinigine išraiška skaičiuoklė
A3: Eil. Nr. | B3: Teisės akto (teisės akto projekto) straipsnis (-iai), punktas (-ai) ir įpareigojimas | C3: Įpareigojimo vykdymo veiksmas | D3: Kilmė (Europos Sąjungos arba tarptautinė, nacionalinė) | E3: Tikslinė grupė (T) (ūkio subjektų skaičius, vnt.) | F3: Išlaidos darbuotojams (D), Eur | G3: Išlaidos investicijoms (I), Eur | H3: Išlaidos medžiagoms (M), Eur | I3: Išlaidos paslaugoms (darbams) įsigyti, Eur, (E) | J3: Pridėtinės išlaidos (O), Eur, (0,05*((6)+(7)+(8)+(9))) | K3: Įpareigojimo tikslinės grupės veikiančiam ūkio subjektui, vykdančiam ekonominę veiklą rinkos sąlygomis ir įgyvendinančiam įpareigojimą verslo praktikoje pagrįstomis sąnaudomis, sukeliama prisitaikymo prie reguliavimo išlaidų (toliau – prisitaikymo išlaidos) suma (S), Eur ((6) + (7) + (8) + (9) + (10) | L3: Įpareigojimo tikslinei grupei sukeliama prisitaikymo išlaidų suma (PI), Eur, ((5)*(11))
A4: 1 | B4: 2 | C4: 3 | D4: 4 | E4: 5 | F4: 6 | G4: 7 | H4: 8 | I4: 9 | J4: 10 | K4: 11 | L4: 12
A5: 1. | B5: Lietuvos Respublikos daugiabučių gyvenamųjų namų ir kitos paskirties pastatų savininkų bendrijų įstatymas
A6: 1.1. | B6: 11 str. 2 d. Pranešimą apie šaukiamą visuotinį susirinkimą šio straipsnio 1 dalyje nurodytas susirinkimo organizatorius (iniciatorius) turi ne vėliau kaip prieš 14 dienų iki susirinkimo dienos paskelbti bendrijos skelbimų lentoje arba kitose gerai matomose vietose, nurodyti susirinkimo vietą, datą ir laiką, kartu paskelbti susirinkimo darbotvarkę ir siūlomų sprendimų projektus arba nurodyti vietą, kur ir kokiu laiku galima susipažinti su sprendimų projektais. Jeigu visuotinio susirinkimo darbotvarkėje numatyta rinkti ar atšaukti bendrijos valdymo organą, keisti bendrijos įstatus ar svarstyti bendrijos reorganizavimo ar likvidavimo klausimus, metinę bendrijos pajamų ir išlaidų sąmatą, apie visuotinį susirinkimą bendrijos nariams pranešama raštu. Jeigu susirinkimo darbotvarkėje numatyta priimti šio įstatymo 12 straipsnio 1 dalyje numatytus sprendimus, apie visuotinį susirinkimą raštu pranešama visiems to pastato (tų pastatų), kuriame (kuriuose) įsteigta bendrija, butų ir kitų patalpų savininkams. | E6: 5167
A7: 1.1.1. | C7: Paskelbia skelbimų lentoje | D7: nacionalinė | F7: ='Išlaidos darbuotojams'!G9 -> 2.646 | G7: ='Išlaidos investicijoms'!D8 -> 0 | H7: ='Išlaidos medžiagoms'!E8 -> 0 | I7: ='Išlaidos paslaugoms'!C8 -> 0 | J7: =0.05*(F7+G7+H7+I7) -> 0.1323 | K7: =SUM(F7:J7) -> 2.7783
A8: 1.1.2. | C8: Praneša raštu | D8: nacionalinė | F8: ='Išlaidos darbuotojams'!G14 -> 13.23 | G8: ='Išlaidos investicijoms'!D12 -> 0 | H8: ='Išlaidos medžiagoms'!E12 -> 0 | I8: ='Išlaidos paslaugoms'!C12 -> 0 | J8: =0.05*(F8+G8+H8+I8) -> 0.6615 | K8: =SUM(F8:J8) -> 13.8915
A9: 1.1.3. | C9: Veiksmas A3 | F9: ='Išlaidos darbuotojams'!G19 -> 0 | G9: ='Išlaidos investicijoms'!D16 -> 0 | H9: ='Išlaidos medžiagoms'!E16 -> 0 | I9: ='Išlaidos paslaugoms'!C16 -> 0 | J9: =0.05*(F9+G9+H9+I9) -> 0 | K9: =SUM(F9:J9) -> 0
A10: ... | C10: ...
B11: Iš viso prisitaikymo išlaidų pagal įpareigojimą A | L11: =SUM(K7:K9)*E6 -> 86132.857
A12: 1.2.
A13: 1.2.1. | F13: ='Išlaidos darbuotojams'!G26 -> 0 | G13: ='Išlaidos investicijoms'!D22 -> 0 | H13: ='Išlaidos medžiagoms'!E23 -> 0 | I13: ='Išlaidos paslaugoms'!C23 -> 0 | J13: =0.05*(F13+G13+H13+I13) -> 0 | K13: =SUM(F13:J13) -> 0
A14: 1.2.2. | C14: Veiksmas B2 | F14: ='Išlaidos darbuotojams'!G31 -> 0 | G14: ='Išlaidos investicijoms'!D26 -> 0 | H14: ='Išlaidos medžiagoms'!E27 -> 0 | I14: ='Išlaidos paslaugoms'!C27 -> 0 | J14: =0.05*(F14+G14+H14+I14) -> 0 | K14: =SUM(F14:J14) -> 0
A15: 1.1.3. | C15: Veiksmas B3 | F15: ='Išlaidos darbuotojams'!G36 -> 0 | G15: ='Išlaidos investicijoms'!D30 -> 0 | H15: ='Išlaidos medžiagoms'!E31 -> 0 | I15: ='Išlaidos paslaugoms'!C31 -> 0 | J15: =0.05*(F15+G15+H15+I15) -> 0 | K15: =SUM(F15:J15) -> 0
A16: ... | C16: .......
B17: Iš viso prisitaikymo išlaidų pagal įpareigojimą B | L17: =SUM(K13:K15)*E12 -> 0
A18: 1.3. | B18: Straipsnis (-iai), punktas (-ai) ir įpareigojimas | E18: 0
A19: 1.3.1. | C19: Veiksmas C1 | F19: ='Išlaidos darbuotojams'!G43 -> 0 | G19: ='Išlaidos investicijoms'!D36 -> 0 | H19: ='Išlaidos medžiagoms'!E38 -> 0 | I19: ='Išlaidos paslaugoms'!C38 -> 0 | J19: =0.05*(F19+G19+H19+I19) -> 0 | K19: =SUM(F19:J19) -> 0
A20: 1.3.2. | C20: Veiksmas C2 | F20: ='Išlaidos darbuotojams'!G48 -> 0 | G20: ='Išlaidos investicijoms'!D40 -> 0 | H20: ='Išlaidos medžiagoms'!E42 -> 0 | I20: ='Išlaidos paslaugoms'!C42 -> 0 | J20: =0.05*(F20+G20+H20+I20) -> 0 | K20: =SUM(F20:J20) -> 0
A21: 1.3.3. | C21: Veiksmas C3 | F21: ='Išlaidos darbuotojams'!G53 -> 0 | G21: ='Išlaidos investicijoms'!D44 -> 0 | H21: ='Išlaidos medžiagoms'!E46 -> 0 | I21: ='Išlaidos paslaugoms'!C46 -> 0 | J21: =0.05*(F21+G21+H21+I21) -> 0 | K21: =SUM(F21:J21) -> 0
A22: ... | C22: ...
B23: Iš viso prisitaikymo išlaidų pagal įpareigojimą C | L23: =SUM(K19:K21)*E18 -> 0
B24: ... | L24: ...
A25: 1.4. | B25: Straipsnis (-iai), punktas (-ai) ir įpareigojimas | E25: 0
A26: 1.4.1. | C26: Veiksmas D1 | F26: ='Išlaidos darbuotojams'!G60 -> 0 | G26: ='Išlaidos investicijoms'!D50 -> 0 | H26: ='Išlaidos medžiagoms'!E53 -> 0 | I26: ='Išlaidos paslaugoms'!C53 -> 0 | J26: =0.05*(F26+G26+H26+I26) -> 0 | K26: =SUM(F26:J26) -> 0
A27: 1.4.2. | C27: Veiksmas D2 | F27: ='Išlaidos darbuotojams'!G65 -> 0 | G27: ='Išlaidos investicijoms'!D54 -> 0 | H27: ='Išlaidos medžiagoms'!E57 -> 0 | I27: ='Išlaidos paslaugoms'!C57 -> 0 | J27: =0.05*(F27+G27+H27+I27) -> 0 | K27: =SUM(F27:J27) -> 0
A28: 1.4.3. | C28: Veiksmas D3 | F28: ='Išlaidos darbuotojams'!G70 -> 0 | G28: ='Išlaidos investicijoms'!D58 -> 0 | H28: ='Išlaidos medžiagoms'!E61 -> 0 | I28: ='Išlaidos paslaugoms'!C61 -> 0 | J28: =0.05*(F28+G28+H28+I28) -> 0 | K28: =SUM(F28:J28) -> 0
A29: ... | C29: ...
B30: Iš viso prisitaikymo išlaidų pagal įpareigojimą D | L30: =SUM(K26:K27)*E25 -> 0
A31: 1.5. | B31: Straipsnis (-iai), punktas (-ai) ir įpareigojimas | E31: 0
A32: 1.5.1. | C32: Veiksmas E1 | F32: ='Išlaidos darbuotojams'!G77 -> 0 | G32: ='Išlaidos investicijoms'!D64 -> 0 | H32: ='Išlaidos medžiagoms'!E68 -> 0 | I32: ='Išlaidos paslaugoms'!C68 -> 0 | J32: =0.05*(F32+G32+H32+I32) -> 0 | K32: =SUM(F32:J32) -> 0
A33: 1.5.2. | C33: Veiksmas E2 | F33: ='Išlaidos darbuotojams'!G82 -> 0 | G33: ='Išlaidos investicijoms'!D68 -> 0 | H33: ='Išlaidos medžiagoms'!E72 -> 0 | I33: ='Išlaidos paslaugoms'!C72 -> 0 | J33: =0.05*(F33+G33+H33+I33) -> 0 | K33: =SUM(F33:J33) -> 0
A34: 1.5.3. | C34: Veiksmas E3 | F34: ='Išlaidos darbuotojams'!G87 -> 0 | G34: ='Išlaidos investicijoms'!D72 -> 0 | H34: ='Išlaidos medžiagoms'!E76 -> 0 | I34: ='Išlaidos paslaugoms'!C76 -> 0 | J34: =0.05*(F34+G34+H34+I34) -> 0 | K34: =SUM(F34:J34) -> 0
A35: ... | C35: ...
B36: Iš viso prisitaikymo išlaidų pagal įpareigojimą E | L36: =SUM(K32:K34)*E31 -> 0
A37: 1.6. | B37: Straipsnis (-iai), punktas (-ai) ir įpareigojimas | E37: 0
A38: 1.6.1. | C38: Veiksmas F1 | F38: ='Išlaidos darbuotojams'!G94 -> 0 | G38: ='Išlaidos investicijoms'!D78 -> 0 | H38: ='Išlaidos medžiagoms'!E83 -> 0 | I38: ='Išlaidos paslaugoms'!C83 -> 0 | J38: =0.05*(F38+G38+H38+I38) -> 0 | K38: =SUM(F38:J38) -> 0
A39: 1.6.2. | C39: Veiksmas F2 | F39: ='Išlaidos darbuotojams'!G99 -> 0 | G39: ='Išlaidos investicijoms'!D82 -> 0 | H39: ='Išlaidos medžiagoms'!E87 -> 0 | I39: ='Išlaidos paslaugoms'!C87 -> 0 | J39: =0.05*(F39+G39+H39+I39) -> 0 | K39: =SUM(F39:J39) -> 0
A40: 1.6.3. | C40: Veiksmas F3 | F40: ='Išlaidos darbuotojams'!G104 -> 0 | G40: ='Išlaidos investicijoms'!D86 -> 0 | H40: ='Išlaidos medžiagoms'!E91 -> 0 | I40: ='Išlaidos paslaugoms'!C91 -> 0 | J40: =0.05*(F40+G40+H40+I40) -> 0 | K40: =SUM(F40:J40) -> 0
A41: ... | C41: ...
...

Sheet Išlaidos darbuotojams
A1: Išlaidų darbuotojams (D) apskaičiavimas (galiojantis teisės aktas)
A2: Teisės akto straipsnis, punktas ir įpareigojimas | B2: Darbuotojas | C2: Darbuotojų skaičius, vnt. | D2: Darbuotojo vidutinio valandinio darbo užmokesčio ir nuo jo darbdavio mokamų mokesčių suma, Eur/val. | E2: Įpareigojimo vykdymo veiksmui (toliau – Veiksmas) vykdyti skirtas darbuotojo laikas, val. | F2: Veiksmo atlikimo dažnis per metus | G2: Iš viso išlaidų darbuotojams (D), Eur
A3: 1 | B3: 2 | C3: 3 | D3: 4 | E3: 5 | F3: 6 | G3: 7
A4: ='PI skaičiuoklė'!B6 -> 11 str. 2 d. Pranešimą apie šaukiamą visuotinį susirinkimą šio straipsnio 1 dalyje nurodytas susirinkimo organizatorius (iniciatorius) turi ne vėliau kaip prieš 14 dienų iki susirinkimo dienos paskelbti bendrijos skelbimų lentoje arba kitose gerai matomose vietose, nurodyti susirinkimo vietą, datą ir laiką, kartu paskelbti susirinkimo darbotvarkę ir siūlomų sprendimų projektus arba nurodyti vietą, kur ir kokiu laiku galima susipažinti su sprendimų projektais. Jeigu visuotinio susirinkimo darbotvarkėje numatyta rinkti ar atšaukti bendrijos valdymo organą, keisti bendrijos įstatus ar svarstyti bendrijos reorganizavimo ar likvidavimo klausimus, metinę bendrijos pajamų ir išlaidų sąmatą, apie visuotinį susirinkimą bendrijos nariams pranešama raštu. Jeigu susirinkimo darbotvarkėje numatyta priimti šio įstatymo 12 straipsnio 1 dalyje numatytus sprendimus, apie visuotinį susirinkimą raštu pranešama visiems to pastato (tų pastatų), kuriame (kuriuose) įsteigta bendrija, butų ir kitų patalpų savininkams.
A5: ='PI skaičiuoklė'!C7 -> Paskelbia skelbimų lentoje
D6: 0 | E6: 0 | F6: 0 | G6: =+C6*D6*E6*F6 -> 0
B7: Bendrijos pirmininkas | C7: 1 | D7: 8.82 | E7: 0.3 | F7: 1 | G7: =+C7*D7*E7*F7 -> 2.646
B8: ...
A9: Iš viso D išlaidų veiksmui A1, Eur | G9: =SUM(G6:G8) -> 2.646
A10: ='PI skaičiuoklė'!C8 -> Praneša raštu
B11: bendrijos pirmininkas | C11: 1 | D11: 8.82 | E11: 1.5 | F11: 1 | G11: =+C11*D11*E11*F11 -> 13.23
B12: A2.2 | C12: 0 | D12: 0 | E12: 0 | F12: 0 | G12: =+C12*D12*E12*F12 -> 0
B13: ...
A14: Iš viso D išlaidų veiksmui A2, Eur | G14: =SUM(G11:G13) -> 13.23
A15: ='PI skaičiuoklė'!C9 -> Veiksmas A3
B16: A3.1 | C16: 0 | D16: 0 | E16: 0 | F16: 0 | G16: =+C16*D16*E16*F16 -> 0
B17: A3.2 | C17: 0 | D17: 0 | E17: 0 | F17: 0 | G17: =+C17*D17*E17*F17 -> 0
B18: ...
A19: Iš viso D išlaidų veiksmui A3, Eur | G19: =SUM(G16:G18) -> 0
A20: Iš viso D išlaidų pagal įpareigojimą A, Eur | G20: =SUM(G9,G14,G19) -> 15.876
A21: ='PI skaičiuoklė'!B12 -> 0
A22: ='PI skaičiuoklė'!C13 -> 0
G23: =+C23*D23*E23*F23 -> 0
B24: B1.2 | C24: 0 | D24: 0 | E24: 0 | F24: 0 | G24: =+C24*D24*E24*F24 -> 0
B25: ...
A26: Iš viso D išlaidų veiksmui B1, Eur | G26: =SUM(G23:G25) -> 0
A27: ='PI skaičiuoklė'!C14 -> Veiksmas B2
B28: B2.1 | C28: 0 | D28: 0 | E28: 0 | F28: 0 | G28: =+C28*D28*E28*F28 -> 0
B29: B2.2 | C29: 0 | D29: 0 | E29: 0 | F29: 0 | G29: =+C29*D29*E29*F29 -> 0
B30: ...
A31: Iš viso D išlaidų veiksmui B2, Eur | G31: =SUM(G28:G30) -> 0
A32: ='PI skaičiuoklė'!C15 -> Veiksmas B3
B33: B3.1 | C33: 0 | D33: 0 | E33: 0 | F33: 0 | G33: =+C33*D33*E33*F33 -> 0
B34: B3.2 | C34: 0 | D34: 0 | E34: 0 | F34: 0 | G34: =+C34*D34*E34*F34 -> 0
B35: ...
A36: Iš viso D išlaidų veiksmui B3, Eur | G36: =SUM(G33:G35) -> 0
A37: Iš viso D išlaidų pagal įpareigojimą B, Eur | G37: =SUM(G26,G31,G36) -> 0
A38: ='PI skaičiuoklė'!B18 -> Straipsnis (-iai), punktas (-ai) ir įpareigojimas
A39: ='PI skaičiuoklė'!C19 -> Veiksmas C1
B40: C1.1 | C40: 0 | D40: 0 | E40: 0 | F40: 0 | G40: =+C40*D40*E40*F40 -> 0
...

Sheet Išlaidos investicijoms
A1: Išlaidų investicijoms (I) apskaičiavimas (galiojantis teisės aktas)
A2: Teisės akto straipsnis, punktas ir įpareigojimas | B2: Objektas | D2: Išlaidos investicijoms (I), Eur
A3: 1 | B3: 2 | D3: 3
A4: ='PI skaičiuoklė'!B6 -> 11 str. 2 d. Pranešimą apie šaukiamą visuotinį susirinkimą šio straipsnio 1 dalyje nurodytas susirinkimo organizatorius (iniciatorius) turi ne vėliau kaip prieš 14 dienų iki susirinkimo dienos paskelbti bendrijos skelbimų lentoje arba kitose gerai matomose vietose, nurodyti susirinkimo vietą, datą ir laiką, kartu paskelbti susirinkimo darbotvarkę ir siūlomų sprendimų projektus arba nurodyti vietą, kur ir kokiu laiku galima susipažinti su sprendimų projektais. Jeigu visuotinio susirinkimo darbotvarkėje numatyta rinkti ar atšaukti bendrijos valdymo organą, keisti bendrijos įstatus ar svarstyti bendrijos reorganizavimo ar likvidavimo klausimus, metinę bendrijos pajamų ir išlaidų sąmatą, apie visuotinį susirinkimą bendrijos nariams pranešama raštu. Jeigu susirinkimo darbotvarkėje numatyta priimti šio įstatymo 12 straipsnio 1 dalyje numatytus sprendimus, apie visuotinį susirinkimą raštu pranešama visiems to pastato (tų pastatų), kuriame (kuriuose) įsteigta bendrija, butų ir kitų patalpų savininkams.
A5: ='PI skaičiuoklė'!C7 -> Paskelbia skelbimų lentoje
B6: skelbimų lenta | C6: 0 | D6: =+C6 -> 0
B7: A1.2 | C7: 0 | D7: =+C7 -> 0
A8: Iš viso išlaidų investicijoms pagal veiksmą A1 | D8: =SUM(D6:D7) -> 0
A9: ='PI skaičiuoklė'!C8 -> Praneša raštu
B10: 0 | C10: 0 | D10: =+C10 -> 0
B11: A2.2 | C11: 0 | D11: =+C11 -> 0
A12: Iš viso išlaidų investicijoms pagal veiksmą A2 | D12: =SUM(D10:D11) -> 0
A13: ='PI skaičiuoklė'!C9 -> Veiksmas A3
B14: A3.1 | C14: 0 | D14: =+C14 -> 0
B15: A3.2 | C15: 0 | D15: =+C15 -> 0
A16: Iš viso išlaidų investicijoms pagal veiksmą A3 | D16: =SUM(D14:D15) -> 0
A17: Iš viso išlaidų investicijoms pagal įpareigojimą A | D17: =SUM(D8,D12,D16) -> 0
A18: ='PI skaičiuoklė'!B12 -> 0
A19: ='PI skaičiuoklė'!C13 -> 0
B20: 0 | C20: 0 | D20: =+C20 -> 0
B21: B1.2 | C21: 0 | D21: =+C21 -> 0
A22: Iš viso išlaidų investicijoms pagal veiksmą B1 | D22: =SUM(D20:D21) -> 0
A23: ='PI skaičiuoklė'!C14 -> Veiksmas B2
B24: B2.1 | C24: 0 | D24: =+C24 -> 0
B25: B2.2 | C25: 0 | D25: =+C25 -> 0
A26: Iš viso išlaidų investicijoms pagal veiksmą B2 | D26: =SUM(D24:D25) -> 0
A27: ='PI skaičiuoklė'!C15 -> Veiksmas B3
B28: B3.1 | C28: 0 | D28: =+C28 -> 0
B29: B3.2 | C29: 0 | D29: =+C29 -> 0
A30: Iš viso išlaidų investicijoms pagal veiksmą B3 | D30: =SUM(D28:D29) -> 0
A31: Iš viso išlaidų investicijoms pagal įpareigojimą B | D31: =SUM(D22,D26,D30) -> 0
A32: ='PI skaičiuoklė'!B18 -> Straipsnis (-iai), punktas (-ai) ir įpareigojimas
A33: ='PI skaičiuoklė'!C19 -> Veiksmas C1
B34: C1.1 | C34: 0 | D34: =+C34 -> 0
B35: C1.2 | C35: 0 | D35: =+C35 -> 0
A36: Iš viso išlaidų investicijoms pagal veiksmą C1 | D36: =SUM(D34:D35) -> 0
A37: ='PI skaičiuoklė'!C20 -> Veiksmas C2
B38: C2.1 | C38: 0 | D38: =+C38 -> 0
B39: C2.2 | C39: 0 | D39: =+C39 -> 0
A40: Iš viso išlaidų investicijoms pagal veiksmą C2 | D40: =SUM(D38:D39) -> 0
...

Sheet Išlaidos medžiagoms
A1: Išlaidų medžiagoms (M) apskaičiavimas (galiojantis teisės aktas)
A2: Teisės akto straipsnis, punktas ir įpareigojimas | B2: Medžiaga arba medžiagų grupė | C2: Medžiagos kiekis / metus (svorio ar tūrio matais arba vienetais) (Q) | D2: Medžiagos (medžiagų) grupės kaina už kiekio vienetą (K) (Eur už svorio ar tūrio matą arba vienetą), Eur/kiekio matą | E2: Išlaidos medžiagoms (M), Eur
A3: 1 | B3: 2 | C3: 3 | D3: 4 | E3: 5
A4: ='PI skaičiuoklė'!B6 -> 11 str. 2 d. Pranešimą apie šaukiamą visuotinį susirinkimą šio straipsnio 1 dalyje nurodytas susirinkimo organizatorius (iniciatorius) turi ne vėliau kaip prieš 14 dienų iki susirinkimo dienos paskelbti bendrijos skelbimų lentoje arba kitose gerai matomose vietose, nurodyti susirinkimo vietą, datą ir laiką, kartu paskelbti susirinkimo darbotvarkę ir siūlomų sprendimų projektus arba nurodyti vietą, kur ir kokiu laiku galima susipažinti su sprendimų projektais. Jeigu visuotinio susirinkimo darbotvarkėje numatyta rinkti ar atšaukti bendrijos valdymo organą, keisti bendrijos įstatus ar svarstyti bendrijos reorganizavimo ar likvidavimo klausimus, metinę bendrijos pajamų ir išlaidų sąmatą, apie visuotinį susirinkimą bendrijos nariams pranešama raštu. Jeigu susirinkimo darbotvarkėje numatyta priimti šio įstatymo 12 straipsnio 1 dalyje numatytus sprendimus, apie visuotinį susirinkimą raštu pranešama visiems to pastato (tų pastatų), kuriame (kuriuose) įsteigta bendrija, butų ir kitų patalpų savininkams.
A5: ='PI skaičiuoklė'!C7 -> Paskelbia skelbimų lentoje
B6: 0 | C6: 0 | D6: 0 | E6: =+C6*D6 -> 0
B7: A1.2 | C7: 0 | D7: 0 | E7: =+C7*D7 -> 0
A8: Iš viso išlaidų medžiagoms pagal veiksmą A1 | E8: =SUM(E6:E7) -> 0
A9: ='PI skaičiuoklė'!C8 -> Praneša raštu
B10: 0 | C10: 0 | D10: 0 | E10: =+C10*D10 -> 0
B11: A2.2 | C11: 0 | D11: 0 | E11: =+C11*D11 -> 0
A12: Iš viso išlaidų medžiagoms pagal veiksmą A2 | E12: =SUM(E10:E11) -> 0
A13: ='PI skaičiuoklė'!C9 -> Veiksmas A3
B14: A3.1 | C14: 0 | D14: 0 | E14: =+C14*D14 -> 0
B15: A3.2 | C15: 0 | D15: 0 | E15: =+C15*D15 -> 0
A16: Iš viso išlaidų medžiagoms pagal veiksmą A3 | E16: =SUM(E14:E15) -> 0
B17: ... | E17: …
A18: Iš viso išlaidų medžiagoms pagal įpareigojimą A | E18: =SUM(E8,E12,E16) -> 0
A19: ='PI skaičiuoklė'!B12 -> 0
A20: ='PI skaičiuoklė'!C13 -> 0
B21: 0 | C21: 0 | D21: 0 | E21: =+C21*D21 -> 0
B22: B1.2 | C22: 0 | D22: 0 | E22: =+C22*D22 -> 0
A23: Iš viso išlaidų medžiagoms pagal veiksmą B1 | E23: =SUM(E21:E22) -> 0
A24: ='PI skaičiuoklė'!C14 -> Veiksmas B2
B25: B2.1 | C25: 0 | D25: 0 | E25: =+C25*D25 -> 0
B26: B2.2 | C26: 0 | D26: 0 | E26: =+C26*D26 -> 0
A27: Iš viso išlaidų medžiagoms pagal veiksmą B2 | E27: =SUM(E25:E26) -> 0
A28: ='PI skaičiuoklė'!C15 -> Veiksmas B3
B29: B3.1 | C29: 0 | D29: 0 | E29: =+C29*D29 -> 0
B30: B3.2 | C30: 0 | D30: 0 | E30: =+C30*D30 -> 0
A31: Iš viso išlaidų medžiagoms pagal veiksmą B3 | E31: =SUM(E29:E30) -> 0
B32: ... | E32: ....
A33: Iš viso išlaidų medžiagoms pagal įpareigojimą B | E33: =SUM(E23,E27,E31) -> 0
A34: ='PI skaičiuoklė'!B18 -> Straipsnis (-iai), punktas (-ai) ir įpareigojimas
A35: ='PI skaičiuoklė'!C19 -> Veiksmas C1
B36: C1.1 | C36: 0 | D36: 0 | E36: =+C36*D36 -> 0
B37: C1.2 | C37: 0 | D37: 0 | E37: =+C37*D37 -> 0
A38: Iš viso išlaidų medžiagoms pagal veiksmą C1 | E38: =SUM(E36:E37) -> 0
A39: ='PI skaičiuoklė'!C20 -> Veiksmas C2
B40: C2.1 | C40: 0 | D40: 0 | E40: =+C40*D40 -> 0
...

Sheet Išlaidos paslaugoms
A1: Išlaidų iš išorės įsigyjamoms paslaugoms (darbams) (E) apskaičiavimas (galiojantis teisės aktas)
A2: Teisės akto straipsnis, punktas ir įpareigojimas | B2: Iš išorės įsigyjamos paslaugos (darbai) | C2: Paslaugų (darbų) kaina (E), Eur
A3: 1 | B3: 2 | C3: 3
A4: ='PI skaičiuoklė'!B6 -> 11 str. 2 d. Pranešimą apie šaukiamą visuotinį susirinkimą šio straipsnio 1 dalyje nurodytas susirinkimo organizatorius (iniciatorius) turi ne vėliau kaip prieš 14 dienų iki susirinkimo dienos paskelbti bendrijos skelbimų lentoje arba kitose gerai matomose vietose, nurodyti susirinkimo vietą, datą ir laiką, kartu paskelbti susirinkimo darbotvarkę ir siūlomų sprendimų projektus arba nurodyti vietą, kur ir kokiu laiku galima susipažinti su sprendimų projektais. Jeigu visuotinio susirinkimo darbotvarkėje numatyta rinkti ar atšaukti bendrijos valdymo organą, keisti bendrijos įstatus ar svarstyti bendrijos reorganizavimo ar likvidavimo klausimus, metinę bendrijos pajamų ir išlaidų sąmatą, apie visuotinį susirinkimą bendrijos nariams pranešama raštu. Jeigu susirinkimo darbotvarkėje numatyta priimti šio įstatymo 12 straipsnio 1 dalyje numatytus sprendimus, apie visuotinį susirinkimą raštu pranešama visiems to pastato (tų pastatų), kuriame (kuriuose) įsteigta bendrija, butų ir kitų patalpų savininkams.
A5: ='PI skaičiuoklė'!C7 -> Paskelbia skelbimų lentoje
B6: 0 | C6: 0
B7: A1.2 | C7: 0
A8: Iš viso išlaidų iš išorės įsigyjamoms paslaugoms (darbams) pagal veiksmą A1 | C8: =SUM(C6:C7) -> 0
A9: ='PI skaičiuoklė'!C8 -> Praneša raštu
B10: 0 | C10: 0
B11: A2.2 | C11: 0
A12: Iš viso išlaidų iš išorės įsigyjamoms paslaugoms (darbams) pagal veiksmą A2 | C12: =SUM(C10:C11) -> 0
A13: ='PI skaičiuoklė'!C9 -> Veiksmas A3
B14: A3.1 | C14: 0
B15: A3.2 | C15: 0
A16: Iš viso išlaidų iš išorės įsigyjamoms paslaugoms (darbams) pagal veiksmą A3 | C16: =SUM(C14:C15) -> 0
B17: ...
A18: Iš viso išlaidų iš išorės įsigyjamoms paslaugoms (darbams) pagal įpareigojimą A | C18: =SUM(C8,C12,C16) -> 0
A19: ='PI skaičiuoklė'!B12 -> 0
A20: ='PI skaičiuoklė'!C13 -> 0
B21: 0 | C21: 0
B22: B1.2 | C22: 0
A23: Iš viso išlaidų iš išorės įsigyjamoms paslaugoms (darbams) pagal veiksmą B1 | C23: =SUM(C21:C22) -> 0
A24: ='PI skaičiuoklė'!C14 -> Veiksmas B2
B25: B2.1 | C25: 0
B26: B2.2 | C26: 0
A27: Iš viso išlaidų iš išorės įsigyjamoms paslaugoms (darbams) pagal veiksmą B2 | C27: =SUM(C25:C26) -> 0
A28: ='PI skaičiuoklė'!C15 -> Veiksmas B3
B29: B3.1 | C29: 0
B30: B3.2 | C30: 0
A31: Iš viso išlaidų iš išorės įsigyjamoms paslaugoms (darbams) pagal veiksmą B3 | C31: =SUM(C29:C30) -> 0
B32: ... | C32: ...
A33: Iš viso išlaidų iš išorės įsigyjamoms paslaugoms (darbams) pagal įpareigojimą B | C33: =SUM(C23,C27,C31) -> 0
A34: ='PI skaičiuoklė'!B18 -> Straipsnis (-iai), punktas (-ai) ir įpareigojimas
A35: ='PI skaičiuoklė'!C19 -> Veiksmas C1
B36: C1.1 | C36: 0
B37: C1.2 | C37: 0
A38: Iš viso išlaidų iš išorės įsigyjamoms paslaugoms (darbams) pagal veiksmą C1 | C38: =SUM(C36:C37) -> 0
A39: ='PI skaičiuoklė'!C20 -> Veiksmas C2
B40: C2.1 | C40: 0
...
