Workbook

Sheet PI skaičiuoklė
A1: Ūkio subjektų administracinės naštos ir prisitaikymo prie reguliavimo išlaidų vertinimo pinigine išraiška skaičiuoklė
A3: Eil. Nr. | B3: Teisės akto (teisės akto projekto) straipsnis (-iai), punktas (-ai) ir įpareigojimas | C3: Įpareigojimo vykdymo veiksmas | D3: Kilmė (Europos Sąjungos arba tarptautinė, nacionalinė) | E3: Tikslinė grupė (T) (ūkio subjektų skaičius, vnt.) | F3: Išlaidos darbuotojams (D), Eur | G3: Išlaidos investicijoms (I), Eur | H3: Išlaidos medžiagoms (M), Eur | I3: Išlaidos paslaugoms (darbams) įsigyti, Eur, (E) | J3: Pridėtinės išlaidos (O), Eur, (0,05*((6)+(7)+(8)+(9))) | K3: Įpareigojimo tikslinės grupės veikiančiam ūkio subjektui, vykdančiam ekonominę veiklą rinkos sąlygomis ir įgyvendinančiam įpareigojimą verslo praktikoje pagrįstomis sąnaudomis, sukeliama prisitaikymo prie reguliavimo išlaidų (toliau – prisitaikymo išlaidos) suma (S), Eur ((6) + (7) + (8) + (9) + (10) | L3: Įpareigojimo tikslinei grupei sukeliama prisitaikymo išlaidų suma (PI), Eur, ((5)*(11))
A4: 1 | B4: 2 | C4: 3 | D4: 4 | E4: 5 | F4: 6 | G4: 7 | H4: 8 | I4: 9 | J4: 10 | K4: 11 | L4: 12
A5: 1. | B5: Lietuvos Respublikos daugiabučių gyvenamųjų namų ir kitos paskirties pastatų savininkų bendrijų įstatymas
A6: 1.1. | B6: 11 str. 2 d. Pranešimą apie šaukiamą visuotinį susirinkimą šio straipsnio 1 dalyje nurodytas susirinkimo organizatorius (iniciatorius) turi ne vėliau kaip prieš 14 dienų iki susirinkimo dienos paskelbti bendrijos skelbimų lentoje arba kitose gerai matomose vietose, nurodyti susirinkimo vietą, datą ir laiką, kartu paskelbti susirinkimo darbotvarkę ir siūlomų sprendimų projektus arba nurodyti vietą, kur ir kokiu laiku galima susipažinti su sprendimų projektais. Jeigu visuotinio susirinkimo darbotvarkėje numatyta rinkti ar atšaukti bendrijos valdymo organą, keisti bendrijos įstatus ar svarstyti bendrijos reorganizavimo ar likvidavimo klausimus, metinę bendrijos pajamų ir išlaidų sąmatą, apie visuotinį susirinkimą bendrijos nariams pranešama raštu. Jeigu susirinkimo darbotvarkėje numatyta priimti šio įstatymo 12 straipsnio 1 dalyje numatytus sprendimus, apie visuotinį susirinkimą raštu pranešama visiems to pastato (tų pastatų), kuriame (kuriuose) įsteigta bendrija, butų ir kitų patalpų savininkams. | E6: 5167
A7: 1.1.1. | C7: Paskelbia skelbimų lentoje | D7: nacionalinė | F7: ='Išlaidos darbuotojams'!G9 -> 2.646 | G7: ='Išlaidos investicijoms'!D8 -> 0 | H7: ='Išlaidos medžiagoms'!E8 -> 0 | I7: ='Išlaidos paslaugoms'!C8 -> 0 | J7: =0.05*(F7+G7+H7+I7) -> 0.1323 | K7: =SUM(F7:J7) -> 2.7783
A8: 1.1.2. | C8: Praneša raštu | D8: nacionalinė | F8: ='Išlaidos darbuotojams'!G14 -> 13.23 | G8: ='Išlaidos investicijoms'!D12 -> 0 | H8: ='Išlaidos medžiagoms'!E12 -> 0 | I8: ='Išlaidos paslaugoms'!C12 -> 0 | J8: =0.05*(F8+G8+H8+I8) -> 0.6615 | K8: =SUM(F8:J8) -> 13.8915
A9: 1.1.3. | C9: Veiksmas A3 | F9: ='Išlaidos darbuotojams'!G19 -> 0 | G9: ='Išlaidos investicijoms'!D16 -> 0 | H9: ='Išlaidos medžiagoms'!E16 -> 0 | I9: ='Išlaidos paslaugoms'!C16 -> 0 | J9: =0.05*(F9+G9+H9+I9) -> 0 | K9: =SUM(F9:J9) -> 0
A10: ... | C10: ...
B11: Iš viso prisitaikymo išlaidų pagal įpareigojimą A | L11: =SUM(K7:K9)*E6 -> 86132.857
A12: 1.2.
A13: 1.2.1. | F13: ='Išlaidos darbuotojams'!G26 -> 0 | G13: ='Išlaidos investicijoms'!D22 -> 0 | H13: ='Išlaidos medžiagoms'!E23 -> 0 | I13: ='Išlaidos paslaugoms'!C23 -> 0 | J13: =0.05*(F13+G13+H13+I13) -> 0 | K13: =SUM(F13:J13) -> 0
A14: 1.2.2. | C14: Veiksmas B2 | F14: ='Išlaidos darbuotojams'!G31 -> 0 | G14: ='Išlaidos investicijoms'!D26 -> 0 | H14: ='Išlaidos medžiagoms'!E27 -> 0 | I14: ='Išlaidos paslaugoms'!C27 -> 0 | J14: =0.05*(F14+G14+H14+I14) -> 0 | K14: =SUM(F14:J14) -> 0
A15: 1.1.3. | C15: Veiksmas B3 | F15: ='Išlaidos darbuotojams'!G36 -> 0 | G15: ='Išlaidos investicijoms'!D30 -> 0 | H15: ='Išlaidos medžiagoms'!E31 -> 0 | I15: ='Išlaidos paslaugoms'!C31 -> 0 | J15: =0.05*(F15+G15+H15+I15) -> 0 | K15: =SUM(F15:J15) -> 0
A16: ... | C16: .......
B17: Iš viso prisitaikymo išlaidų pagal įpareigojimą B | L17: =SUM(K13:K15)*E12 -> 0
A18: 1.3. | B18: Straipsnis (-iai), punktas (-ai) ir įpareigojimas | E18: 0
A19: 1.3.1. | C19: Veiksmas C1 | F19: ='Išlaidos darbuotojams'!G43 -> 0 | G19: ='Išlaidos investicijoms'!D36 -> 0 | H19: ='Išlaidos medžiagoms'!E38 -> 0 | I19: ='Išlaidos paslaugoms'!C38 -> 0 | J19: =0.05*(F19+G19+H19+I19) -> 0 | K19: =SUM(F19:J19) -> 0
A20: 1.3.2. | C20: Veiksmas C2 | F20: ='Išlaidos darbuotojams'!G48 -> 0 | G20: ='Išlaidos investicijoms'!D40 -> 0 | H20: ='Išlaidos medžiagoms'!E42 -> 0 | I20: ='Išlaidos paslaugoms'!C42 -> 0 | J20: =0.05*(F20+G20+H20+I20) -> 0 | K20: =SUM(F20:J20) -> 0
A21: 1.3.3. | C21: Veiksmas C3 | F21: ='Išlaidos darbuotojams'!G53 -> 0 | G21: ='Išlaidos investicijoms'!D44 -> 0 | H21: ='Išlaidos medžiagoms'!E46 -> 0 | I21: ='Išlaidos paslaugoms'!C46 -> 0 | J21: =0.05*(F21+G21+H21+I21) -> 0 | K21: =SUM(F21:J21) -> 0
A22: ... | C22: ...
B23: Iš viso prisitaikymo išlaidų pagal įpareigojimą C | L23: =SUM(K19:K21)*E18 -> 0
B24: ... | L24: ...
A25: 1.4. | B25: Straipsnis (-iai), punktas (-ai) ir įpareigojimas | E25: 0
A26: 1.4.1. | C26: Veiksmas D1 | F26: ='Išlaidos darbuotojams'!G60 -> 0 | G26: ='Išlaidos investicijoms'!D50 -> 0 | H26: ='Išlaidos medžiagoms'!E53 -> 0 | I26: ='Išlaidos paslaugoms'!C53 -> 0 | J26: =0.05*(F26+G26+H26+I26) -> 0 | K26: =SUM(F26:J26) -> 0
A27: 1.4.2. | C27: Veiksmas D2 | F27: ='Išlaidos darbuotojams'!G65 -> 0 | G27: ='Išlaidos investicijoms'!D54 -> 0 | H27: ='Išlaidos medžiagoms'!E57 -> 0 | I27: ='Išlaidos paslaugoms'!C57 -> 0 | J27: =0.05*(F27+G27+H27+I27) -> 0 | K27: =SUM(F27:J27) -> 0
A28: 1.4.3. | C28: Veiksmas D3 | F28: ='Išlaidos darbuotojams'!G70 -> 0 | G28: ='Išlaidos investicijoms'!D58 -> 0 | H28: ='Išlaidos medžiagoms'!E61 -> 0 | I28: ='Išlaidos paslaugoms'!C61 -> 0 | J28: =0.05*(F28+G28+H28+I28) -> 0 | K28: =SUM(F28:J28) -> 0
A29: ... | C29: ...
B30: Iš viso prisitaikymo išlaidų pagal įpareigojimą D | L30: =SUM(K26:K27)*E25 -> 0
A31: 1.5. | B31: Straipsnis (-iai), punktas (-ai) ir įpareigojimas | E31: 0
A32: 1.5.1. | C32: Veiksmas E1 | F32: ='Išlaidos darbuotojams'!G77 -> 0 | G32: ='Išlaidos investicijoms'!D64 -> 0 | H32: ='Išlaidos medžiagoms'!E68 -> 0 | I32: ='Išlaidos paslaugoms'!C68 -> 0 | J32: =0.05*(F32+G32+H32+I32) -> 0 | K32: =SUM(F32:J32) -> 0
A33: 1.5.2. | C33: Veiksmas E2 | F33: ='Išlaidos darbuotojams'!G82 -> 0 | G33: ='Išlaidos investicijoms'!D68 -> 0 | H33: ='Išlaidos medžiagoms'!E72 -> 0 | I33: ='Išlaidos paslaugoms'!C72 -> 0 | J33: =0.05*(F33+G33+H33+I33) -> 0 | K33: =SUM(F33:J33) -> 0
A34: 1.5.3. | C34: Veiksmas E3 | F34: ='Išlaidos darbuotojams'!G87 -> 0 | G34: ='Išlaidos investicijoms'!D72 -> 0 | H34: ='Išlaidos medžiagoms'!E76 -> 0 | I34: ='Išlaidos paslaugoms'!C76 -> 0 | J34: =0.05*(F34+G34+H34+I34) -> 0 | K34: =SUM(F34:J34) -> 0
A35: ... | C35: ...
B36: Iš viso prisitaikymo išlaidų pagal įpareigojimą E | L36: =SUM(K32:K34)*E31 -> 0
A37: 1.6. | B37: Straipsnis (-iai), punktas (-ai) ir įpareigojimas | E37: 0
A38: 1.6.1. | C38: Veiksmas F1 | F38: ='Išlaidos darbuotojams'!G94 -> 0 | G38: ='Išlaidos investicijoms'!D78 -> 0 | H38: ='Išlaidos medžiagoms'!E83 -> 0 | I38: ='Išlaidos paslaugoms'!C83 -> 0 | J38: =0.05*(F38+G38+H38+I38) -> 0 | K38: =SUM(F38:J38) -> 0
A39: 1.6.2. | C39: Veiksmas F2 | F39: ='Išlaidos darbuotojams'!G99 -> 0 | G39: ='Išlaidos investicijoms'!D82 -> 0 | H39: ='Išlaidos medžiagoms'!E87 -> 0 | I39: ='Išlaidos paslaugoms'!C87 -> 0 | J39: =0.05*(F39+G39+H39+I39) -> 0 | K39: =SUM(F39:J39) -> 0
A40: 1.6.3. | C40: Veiksmas F3 | F40: ='Išlaidos darbuotojams'!G104 -> 0 | G40: ='Išlaidos investicijoms'!D86 -> 0 | H40: ='Išlaidos medžiagoms'!E91 -> 0 | I40: ='Išlaidos paslaugoms'!C91 -> 0 | J40: =0.05*(F40+G40+H40+I40) -> 0 | K40: =SUM(F40:J40) -> 0
A41: ... | C41: ...
B42: Iš viso prisitaikymo išlaidų pagal įpareigojimą F | L42: =SUM(K38:K40)*E37 -> 0
B43: Iš viso prisitaikymo išlaidų pagal galiojantį teisės aktą, Eur | L43: =SUM(L11,L17,L23,L30,L36,L42) -> 86132.857
A44: 2. | B44: Lietuvos Respublikos butų, kitų patalpų ir kito nekilnojamojo turtosavininkų bendrojo naudojimo objektų valdymo steigiant bendriją įstatymo projektas
A45: 2.1. | B45: 4 str. 7 d. Bendrijos steigiamajame susirinkime priėmus sprendimą steigti bendriją, išrinktasis bendrijos pirmininkas ne vėliau kaip per 10 darbo dienų nuo bendrijos steigiamojo susirinkimo dienos privalo elektroninių ryšių priemonėmis, paštu, asmeniškai arba per atstovą pranešti apie priimtą sprendimą steigti bendriją statytojui arba bendrojo naudojimo objektų, kuriems valdyti steigiama bendrija, valdytojui – jungtinės veiklos sutartimi įgaliotam asmeniui ar bendrojo naudojimo objektų administratoriui. | E45: 51
A46: 2.1.1. | C46: pranešti elektroninių ryšių priemonėmis, paštu, asmeniškai arba per atstovą | D46: nacionalinė | F46: ='Išlaidos darbuotojams'!G118 -> 1.4994 | G46: ='Išlaidos investicijoms'!D99 -> 0 | H46: ='Išlaidos medžiagoms'!E108 -> 0 | I46: ='Išlaidos paslaugoms'!C107 -> 0 | J46: =0.05*(F46+G46+H46+I46) -> 0.07497 | K46: =SUM(F46:J46) -> 1.57437
A47: 2.1.2. | C47: Veiksmas A2 | F47: ='Išlaidos darbuotojams'!G123 -> 0 | G47: ='Išlaidos investicijoms'!D103 -> 0 | H47: ='Išlaidos medžiagoms'!E112 -> 0 | I47: ='Išlaidos paslaugoms'!C111 -> 0 | J47: =0.05*(F47+G47+H47+I47) -> 0 | K47: =SUM(F47:J47) -> 0
A48: 2.1.3. | C48: Veiksmas A3 | F48: ='Išlaidos darbuotojams'!G128 -> 0 | G48: ='Išlaidos investicijoms'!D107 -> 0 | H48: ='Išlaidos medžiagoms'!E116 -> 0 | I48: ='Išlaidos paslaugoms'!C115 -> 0 | J48: =0.05*(F48+G48+H48+I48) -> 0 | K48: =SUM(F48:J48) -> 0
A49: ... | C49: ...
B50: Iš viso prisitaikymo išlaidų pagal įpareigojimą A | L50: =SUM(K46:K48)*E45 -> 80.29287
A51: 2.2. | B51: 4 str. 9 d. Bendrijos pirmininkas ne vėliau kaip per 5 darbo dienas nuo bendrijos įregistravimo Juridinių asmenų registro informacinėje sistemoje dienos elektroninių ryšių priemonėmis, paštu, asmeniškai arba per atstovą privalo pranešti apie bendrijos įregistravimą statytojui ar bendrojo naudojimo objektus, kuriems valdyti įsteigta bendrija, valdžiusiam jungtinės veiklos sutartimi įgaliotam asmeniui ar bendrojo naudojimo objektų administratoriui. Daugiabučio namo butų ir kitų patalpų savininkų įsteigtos bendrijos pirmininkas šioje dalyje nustatyta tvarka privalo pranešti apie bendrijos įregistravimą ir savivaldybės administracijai. | E51: 51
A52: 2.2.1. | C52: pranešti el. ryšio priemonėmis | D52: nacionalinė | F52: ='Išlaidos darbuotojams'!G135 -> 1.4994 | G52: ='Išlaidos investicijoms'!D113 -> 0 | H52: ='Išlaidos medžiagoms'!E123 -> 0 | I52: ='Išlaidos paslaugoms'!C122 -> 0 | J52: =0.05*(F52+G52+H52+I52) -> 0.07497 | K52: =SUM(F52:J52) -> 1.57437
A53: 2.2.2. | C53: Veiksmas B2 | F53: ='Išlaidos darbuotojams'!G140 -> 0 | G53: ='Išlaidos investicijoms'!D117 -> 0 | H53: ='Išlaidos medžiagoms'!E127 -> 0 | I53: ='Išlaidos paslaugoms'!C126 -> 0 | J53: =0.05*(F53+G53+H53+I53) -> 0 | K53: =SUM(F53:J53) -> 0
A54: 2.1.3. | C54: Veiksmas B3 | F54: ='Išlaidos darbuotojams'!G145 -> 0 | G54: ='Išlaidos investicijoms'!D121 -> 0 | H54: ='Išlaidos medžiagoms'!E131 -> 0 | I54: ='Išlaidos paslaugoms'!C130 -> 0 | J54: =0.05*(F54+G54+H54+I54) -> 0 | K54: =SUM(F54:J54) -> 0
A55: ... | C55: ...
B56: Iš viso prisitaikymo išlaidų pagal įpareigojimą B | L56: =SUM(K52:K54)*E51 -> 80.29287
A57: 2.3. | B57: 11 str. 3 d. Šio straipsnio pirmoje dalyje nurodytas bendrijos narių susirinkimo organizatorius privalo ne vėliau kaip prieš 14 dienų iki susirinkimo dienos bendrijos įstatuose nustatyta tvarka paskelbti pranešimą apie šaukiamą bendrijos narių susirinkimą bendrijos nariams ir savininkams ne bendrijos nariams. Pranešime apie šaukiamą bendrijos narių susirinkimą turi būti nurodytas susirinkimo organizatorius, susirinkimo data, laikas ir vieta arba informacija apie susirinkimo organizavimą nuotoliu, susirinkimo darbotvarkė, informacija apie galimybes dalyvauti susirinkime nuotoliu, iš anksto raštu pareikšti savo valią šaukiamo susirinkimo darbotvarkės klausimais, sudaryti paprastos rašytinės formos balsavimo teisės perleidimo, vadovaujantis Civilinio kodekso 2.89 straipsnio nuostatomis, sutartį su kitu asmeniu, patvirtinti įgaliojimą kitam asmeniui, taip pat informacija, kada ir kokiu būdu pateikti klausimų, pasiūlymų ir susipažinti su siūlomais sprendimais ar kitais papildomais dokumentais, jeigu jų būtų. | E57: 5167
A58: 2.3.1. | C58: išsiųsti el. paštu | D58: nacionalinė | F58: ='Išlaidos darbuotojams'!G152 -> 1.4994 | G58: ='Išlaidos investicijoms'!D127 -> 0 | H58: ='Išlaidos medžiagoms'!E138 -> 0 | I58: ='Išlaidos paslaugoms'!C137 -> 0 | J58: =0.05*(F58+G58+H58+I58) -> 0.07497 | K58: =SUM(F58:J58) -> 1.57437
A59: 2.3.2. | F59: ='Išlaidos darbuotojams'!G157 -> 0 | G59: ='Išlaidos investicijoms'!D131 -> 0 | H59: ='Išlaidos medžiagoms'!E142 -> 0 | I59: ='Išlaidos paslaugoms'!C141 -> 0 | J59: =0.05*(F59+G59+H59+I59) -> 0 | K59: =SUM(F59:J59) -> 0
A60: 2.3.3. | F60: ='Išlaidos darbuotojams'!G162 -> 0 | G60: ='Išlaidos investicijoms'!D135 -> 0 | H60: ='Išlaidos medžiagoms'!E146 -> 0 | I60: ='Išlaidos paslaugoms'!C145 -> 0 | J60: =0.05*(F60+G60+H60+I60) -> 0 | K60: =SUM(F60:J60) -> 0
A61: ... | C61: ...
B62: Iš viso prisitaikymo išlaidų pagal įpareigojimą C | L62: =SUM(K58:K60)*E57 -> 8134.7698
A63: 2.4. | B63: 18 str. 3 d. Veikiančios bendrijos, kuriai buvo perduotas bendrojo naudojimo objektų valdymas, pirmininkas ne vėliau kaip per 5 darbo dienas nuo bendrojo naudojimo objektų perdavimo valdyti sutarties patvirtinimo bendrijos narių susirinkime dienos privalo elektroninių ryšių priemonėmis, paštu, asmeniškai arba per atstovą raštu pranešti apie bendrojo naudojimo objektų perdavimą valdyti veikiančiai bendrijai statytojui arba šiuos bendrojo naudojimo objektus valdžiusiam pagal jungtinės veiklos sutartį įgaliotam asmeniui arba bendrojo naudojimo objektų administratoriui, nurodant šios sutarties įsigaliojimo datą. Nuo bendrojo naudojimo objektų perdavimo valdyti sutarties įsigaliojimo dienos buvusio šių bendrojo naudojimo objektų valdytojo įgaliojimai, susiję su šių bendrojo naudojimo objektų valdymu nebegalioja. | E63: 15
A64: 2.4.1. | C64: pranešti raštu elektroninių ryšių priemonėmis, paštu, asmeniškai arba per atstovą | D64: nacionalinė | F64: ='Išlaidos darbuotojams'!G169 -> 1.4994 | G64: ='Išlaidos investicijoms'!D141 -> 0 | H64: ='Išlaidos medžiagoms'!E153 -> 0 | I64: ='Išlaidos paslaugoms'!C152 -> 0 | J64: =0.05*(F64+G64+H64+I64) -> 0.07497 | K64: =SUM(F64:J64) -> 1.57437
A65: 2.4.2. | C65: Veiksmas D2 | F65: ='Išlaidos darbuotojams'!G174 -> 0 | G65: ='Išlaidos investicijoms'!D145 -> 0 | H65: ='Išlaidos medžiagoms'!E157 -> 0 | I65: ='Išlaidos paslaugoms'!C156 -> 0 | J65: =0.05*(F65+G65+H65+I65) -> 0 | K65: =SUM(F65:J65) -> 0
A66: 2.4.3. | C66: Veiksmas D3 | F66: ='Išlaidos darbuotojams'!G179 -> 0 | G66: ='Išlaidos investicijoms'!D149 -> 0 | H66: ='Išlaidos medžiagoms'!E161 -> 0 | I66: ='Išlaidos paslaugoms'!C160 -> 0 | J66: =0.05*(F66+G66+H66+I66) -> 0 | K66: =SUM(F66:J66) -> 0
A67: ... | C67: ...
B68: Iš viso prisitaikymo išlaidų pagal įpareigojimą D | L68: =SUM(K64:K66)*E63 -> 23.61555
A69: 2.5. | B69: 18 str. 4 d. Kai sprendimą bendrojo naudojimo objektus perduoti valdyti veikiančiai bendrijai arba atšaukti bendrojo naudojimo objektų valdymą per veikiančią bendriją priima daugiabučio namo butų ir kitų patalpų savininkai, veikiančios bendrijos pirmininkas ne vėliau kaip per 5 darbo dienas nuo bendrojo naudojimo objektų perdavimo valdyti arba bendrojo naudojimo objektų valdymo atšaukimo sutarties patvirtinimo dienos privalo elektroninių ryšių priemonėmis, paštu, asmeniškai arba per atstovą raštu pranešti savivaldybės administracijai daugiabučio namo, kuriame esančius bendrojo naudojimo objektus butų ir kitų patalpų savininkai perdavė valdyti veikiančiai bendrijai arba kurių valdymą per veikiančią bendriją atšaukė, adresą ir unikalų numerį Nekilnojamojo turto registro informacinėje sistemoje ir nurodyti bendrojo naudojimo objektų perdavimo valdyti ar bendrojo naudojimo objektų valdymo atšaukimo sutarties įsigaliojimo datą. | E69: 15
A70: 2.5.1. | C70: pranešti elektroninių ryšių priemonėmis, paštu, asmeniškai arba per atstovą | F70: ='Išlaidos darbuotojams'!G186 -> 1.4994 | G70: ='Išlaidos investicijoms'!D155 -> 0 | H70: ='Išlaidos medžiagoms'!E168 -> 0 | I70: ='Išlaidos paslaugoms'!C167 -> 0 | J70: =0.05*(F70+G70+H70+I70) -> 0.07497 | K70: =SUM(F70:J70) -> 1.57437
A71: 2.5.2. | C71: Veiksmas E2 | F71: ='Išlaidos darbuotojams'!G191 -> 0 | G71: ='Išlaidos investicijoms'!D159 -> 0 | H71: ='Išlaidos medžiagoms'!E172 -> 0 | I71: ='Išlaidos paslaugoms'!C171 -> 0 | J71: =0.05*(F71+G71+H71+I71) -> 0 | K71: =SUM(F71:J71) -> 0
A72: 2.5.2. | C72: Veiksmas E3 | F72: ='Išlaidos darbuotojams'!G196 -> 0 | G72: ='Išlaidos investicijoms'!D163 -> 0 | H72: ='Išlaidos medžiagoms'!E176 -> 0 | I72: ='Išlaidos paslaugoms'!C175 -> 0 | J72: =0.05*(F72+G72+H72+I72) -> 0 | K72: =SUM(F72:J72) -> 0
A73: ... | C73: ...
B74: Iš viso prisitaikymo išlaidų pagal įpareigojimą E | L74: =SUM(K70:K72)*E69 -> 23.61555
A75: 2.6.
A76: 2.6.1. | F76: ='Išlaidos darbuotojams'!G203 -> 0 | G76: ='Išlaidos investicijoms'!D169 -> 0 | H76: ='Išlaidos medžiagoms'!E183 -> 0 | I76: 0 | J76: =0.05*(F76+G76+H76+I76) -> 0 | K76: =SUM(F76:J76) -> 0
A77: 2.6.2. | G77: ='Išlaidos investicijoms'!D173 -> 0 | H77: ='Išlaidos medžiagoms'!E187 -> 0 | J77: =0.05*(F77+G77+H77+I77) -> 0 | K77: =SUM(F77:J77) -> 0
A78: 2.6.2. | F78: ='Išlaidos darbuotojams'!G213 -> 0 | G78: ='Išlaidos investicijoms'!D177 -> 0 | H78: ='Išlaidos medžiagoms'!E191 -> 0 | I78: ='Išlaidos paslaugoms'!C190 -> 0 | J78: =0.05*(F78+G78+H78+I78) -> 0 | K78: =SUM(F78:J78) -> 0
A79: ... | C79: ...
B80: Iš viso prisitaikymo išlaidų pagal įpareigojimą F | L80: =SUM(K76:K78)*E75 -> 0
B81: ...
B82: Iš viso prisitaikymo išlaidų pagal teisės akto projektą, Eur | L82: =SUM(L50,L56,L62+L68+L74+L80) -> 8342.5866
B83: Teisės akto projektu numatomas sukelti prisitaikymo išlaidų pokytis, Eur | L83: =+L82-L43 -> -77790.27
B85: Juridinių asmenų registre įregistruotos 5167 daugiabučių namų bendrijos
B86: Vidutiniškai per metus įsteigiama 51 daugiabučių namų butų ir kitų patalpų savininkų bendrija
B87: Laikytina, kad vidutiniškai per metus gali pasitaikyti 15 atvejų daugiabučių namų butų ir kitų patalpų savininkų bendrojo naudojimo objektų perdavimo valdyti veikiančiai bendrijai ir bendrojo naudojimo objektų valdymo atšaukimo 15 atvejų.
B90: Būsto prieinamumo politikos grupės patarėja | J90: Vaiva Rumbutienė
H91: =+'Išlaidos paslaugoms'!B184 -> 0

Sheet Išlaidos darbuotojams
A1: Išlaidų darbuotojams (D) apskaičiavimas (galiojantis teisės aktas)
A2: Teisės akto straipsnis, punktas ir įpareigojimas | B2: Darbuotojas | C2: Darbuotojų skaičius, vnt. | D2: Darbuotojo vidutinio valandinio darbo užmokesčio ir nuo jo darbdavio mokamų mokesčių suma, Eur/val. | E2: Įpareigojimo vykdymo veiksmui (toliau – Veiksmas) vykdyti skirtas darbuotojo laikas, val. | F2: Veiksmo atlikimo dažnis per metus | G2: Iš viso išlaidų darbuotojams (D), Eur
A3: 1 | B3: 2 | C3: 3 | D3: 4 | E3: 5 | F3: 6 | G3: 7
A4: ='PI skaičiuoklė'!B6 -> 11 str. 2 d. Pranešimą apie šaukiamą visuotinį susirinkimą šio straipsnio 1 dalyje nurodytas susirinkimo organizatorius (iniciatorius) turi ne vėliau kaip prieš 14 dienų iki susirinkimo dienos paskelbti bendrijos skelbimų lentoje arba kitose gerai matomose vietose, nurodyti susirinkimo vietą, datą ir laiką, kartu paskelbti susirinkimo darbotvarkę ir siūlomų sprendimų projektus arba nurodyti vietą, kur ir kokiu laiku galima susipažinti su sprendimų projektais. Jeigu visuotinio susirinkimo darbotvarkėje numatyta rinkti ar atšaukti bendrijos valdymo organą, keisti bendrijos įstatus ar svarstyti bendrijos reorganizavimo ar likvidavimo klausimus, metinę bendrijos pajamų ir išlaidų sąmatą, apie visuotinį susirinkimą bendrijos nariams pranešama raštu. Jeigu susirinkimo darbotvarkėje numatyta priimti šio įstatymo 12 straipsnio 1 dalyje numatytus sprendimus, apie visuotinį susirinkimą raštu pranešama visiems to pastato (tų pastatų), kuriame (kuriuose) įsteigta bendrija, butų ir kitų patalpų savininkams.
A5: ='PI skaičiuoklė'!C7 -> Paskelbia skelbimų lentoje
D6: 0 | E6: 0 | F6: 0 | G6: =+C6*D6*E6*F6 -> 0
B7: Bendrijos pirmininkas | C7: 1 | D7: 8.82 | E7: 0.3 | F7: 1 | G7: =+C7*D7*E7*F7 -> 2.646
B8: ...
A9: Iš viso D išlaidų veiksmui A1, Eur | G9: =SUM(G6:G8) -> 2.646
A10: ='PI skaičiuoklė'!C8 -> Praneša raštu
B11: bendrijos pirmininkas | C11: 1 | D11: 8.82 | E11: 1.5 | F11: 1 | G11: =+C11*D11*E11*F11 -> 13.23
B12: A2.2 | C12: 0 | D12: 0 | E12: 0 | F12: 0 | G12: =+C12*D12*E12*F12 -> 0
B13: ...
A14: Iš viso D išlaidų veiksmui A2, Eur | G14: =SUM(G11:G13) -> 13.23
A15: ='PI skaičiuoklė'!C9 -> Veiksmas A3
B16: A3.1 | C16: 0 | D16: 0 | E16: 0 | F16: 0 | G16: =+C16*D16*E16*F16 -> 0
B17: A3.2 | C17: 0 | D17: 0 | E17: 0 | F17: 0 | G17: =+C17*D17*E17*F17 -> 0
B18: ...
A19: Iš viso D išlaidų veiksmui A3, Eur | G19: =SUM(G16:G18) -> 0
A20: Iš viso D išlaidų pagal įpareigojimą A, Eur | G20: =SUM(G9,G14,G19) -> 15.876
A21: ='PI skaičiuoklė'!B12 -> 0
A22: ='PI skaičiuoklė'!C13 -> 0
G23: =+C23*D23*E23*F23 -> 0
B24: B1.2 | C24: 0 | D24: 0 | E24: 0 | F24: 0 | G24: =+C24*D24*E24*F24 -> 0
B25: ...
A26: Iš viso D išlaidų veiksmui B1, Eur | G26: =SUM(G23:G25) -> 0
A27: ='PI skaičiuoklė'!C14 -> Veiksmas B2
B28: B2.1 | C28: 0 | D28: 0 | E28: 0 | F28: 0 | G28: =+C28*D28*E28*F28 -> 0
B29: B2.2 | C29: 0 | D29: 0 | E29: 0 | F29: 0 | G29: =+C29*D29*E29*F29 -> 0
B30: ...
A31: Iš viso D išlaidų veiksmui B2, Eur | G31: =SUM(G28:G30) -> 0
A32: ='PI skaičiuoklė'!C15 -> Veiksmas B3
B33: B3.1 | C33: 0 | D33: 0 | E33: 0 | F33: 0 | G33: =+C33*D33*E33*F33 -> 0
B34: B3.2 | C34: 0 | D34: 0 | E34: 0 | F34: 0 | G34: =+C34*D34*E34*F34 -> 0
B35: ...
A36: Iš viso D išlaidų veiksmui B3, Eur | G36: =SUM(G33:G35) -> 0
A37: Iš viso D išlaidų pagal įpareigojimą B, Eur | G37: =SUM(G26,G31,G36) -> 0
A38: ='PI skaičiuoklė'!B18 -> Straipsnis (-iai), punktas (-ai) ir įpareigojimas
A39: ='PI skaičiuoklė'!C19 -> Veiksmas C1
B40: C1.1 | C40: 0 | D40: 0 | E40: 0 | F40: 0 | G40: =+C40*D40*E40*F40 -> 0
B41: C1.2 | C41: 0 | D41: 0 | E41: 0 | F41: 0 | G41: =+C41*D41*E41*F41 -> 0
B42: ...
A43: Iš viso D išlaidų veiksmui C1, Eur | G43: =SUM(G40:G42) -> 0
A44: ='PI skaičiuoklė'!C20 -> Veiksmas C2
B45: C2.1 | C45: 0 | D45: 0 | E45: 0 | F45: 0 | G45: =+C45*D45*E45*F45 -> 0
B46: C2.2 | C46: 0 | D46: 0 | E46: 0 | F46: 0 | G46: =+C46*D46*E46*F46 -> 0
B47: ...
A48: Iš viso D išlaidų veiksmui C2, Eur | G48: =SUM(G45:G47) -> 0
A49: ='PI skaičiuoklė'!C21 -> Veiksmas C3
B50: C3.1 | C50: 0 | D50: 0 | E50: 0 | F50: 0 | G50: =+C50*D50*E50*F50 -> 0
B51: C3.2 | C51: 0 | D51: 0 | E51: 0 | F51: 0 | G51: =+C51*D51*E51*F51 -> 0
B52: ...
A53: Iš viso D išlaidų veiksmui C3, Eur | G53: =SUM(G50:G52) -> 0
A54: Iš viso D išlaidų pagal įpareigojimą C, Eur | G54: =SUM(G43,G48,G53) -> 0
A55: ='PI skaičiuoklė'!B25 -> Straipsnis (-iai), punktas (-ai) ir įpareigojimas
A56: ='PI skaičiuoklė'!C26 -> Veiksmas D1
B57: D1.1 | C57: 0 | D57: 0 | E57: 0 | F57: 0 | G57: =+C57*D57*E57*F57 -> 0
B58: D1.2 | C58: 0 | D58: 0 | E58: 0 | F58: 0 | G58: =+C58*D58*E58*F58 -> 0
B59: ...
A60: Iš viso D išlaidų veiksmui D1, Eur | G60: =SUM(G57:G59) -> 0
A61: ='PI skaičiuoklė'!C27 -> Veiksmas D2
B62: D2.1 | C62: 0 | D62: 0 | E62: 0 | F62: 0 | G62: =+C62*D62*E62*F62 -> 0
B63: D2.2 | C63: 0 | D63: 0 | E63: 0 | F63: 0 | G63: =+C63*D63*E63*F63 -> 0
B64: ...
A65: Iš viso D išlaidų veiksmui D2, Eur | G65: =SUM(G62:G64) -> 0
A66: ='PI skaičiuoklė'!C28 -> Veiksmas D3
B67: D3.1 | C67: 0 | D67: 0 | E67: 0 | F67: 0 | G67: =+C67*D67*E67*F67 -> 0
B68: D3.2 | C68: 0 | D68: 0 | E68: 0 | F68: 0 | G68: =+C68*D68*E68*F68 -> 0
B69: ...
A70: Iš viso D išlaidų veiksmui D3, Eur | G70: =SUM(G67:G69) -> 0
A71: Iš viso D išlaidų pagal įpareigojimą D, Eur | G71: =SUM(G60,G65,G70) -> 0
A72: ='PI skaičiuoklė'!B31 -> Straipsnis (-iai), punktas (-ai) ir įpareigojimas
A73: ='PI skaičiuoklė'!C32 -> Veiksmas E1
B74: E1.1 | C74: 0 | D74: 0 | E74: 0 | F74: 0 | G74: =+C74*D74*E74*F74 -> 0
B75: E1.2 | C75: 0 | D75: 0 | E75: 0 | F75: 0 | G75: =+C75*D75*E75*F75 -> 0
B76: ...
A77: Iš viso D išlaidų veiksmui E1, Eur | G77: =SUM(G74:G76) -> 0
A78: ='PI skaičiuoklė'!C33 -> Veiksmas E2
B79: E2.1 | C79: 0 | D79: 0 | E79: 0 | F79: 0 | G79: =+C79*D79*E79*F79 -> 0
B80: E2.2 | C80: 0 | D80: 0 | E80: 0 | F80: 0 | G80: =+C80*D80*E80*F80 -> 0
B81: ...
A82: Iš viso D išlaidų veiksmui E2, Eur | G82: =SUM(G79:G81) -> 0
A83: ='PI skaičiuoklė'!C34 -> Veiksmas E3
B84: E3.1 | C84: 0 | D84: 0 | E84: 0 | F84: 0 | G84: =+C84*D84*E84*F84 -> 0
B85: E3.2 | C85: 0 | D85: 0 | E85: 0 | F85: 0 | G85: =+C85*D85*E85*F85 -> 0
B86: ...
A87: Iš viso D išlaidų veiksmui E3, Eur | G87: =SUM(G84:G86) -> 0
A88: Iš viso D išlaidų pagal įpareigojimą E, Eur | G88: =SUM(G77,G82,G87) -> 0
A89: ='PI skaičiuoklė'!B37 -> Straipsnis (-iai), punktas (-ai) ir įpareigojimas
A90: ='PI skaičiuoklė'!C38 -> Veiksmas F1
B91: F1.1 | C91: 0 | D91: 0 | E91: 0 | F91: 0 | G91: =+C91*D91*E91*F91 -> 0
B92: F1.2 | C92: 0 | D92: 0 | E92: 0 | F92: 0 | G92: =+C92*D92*E92*F92 -> 0
B93: ...
A94: Iš viso D išlaidų veiksmui F1, Eur | G94: =SUM(G91:G93) -> 0
A95: ='PI skaičiuoklė'!C39 -> Veiksmas F2
B96: F2.1 | C96: 0 | D96: 0 | E96: 0 | F96: 0 | G96: =+C96*D96*E96*F96 -> 0
B97: F2.2 | C97: 0 | D97: 0 | E97: 0 | F97: 0 | G97: =+C97*D97*E97*F97 -> 0
B98: ...
A99: Iš viso D išlaidų veiksmui F2, Eur | G99: =SUM(G96:G98) -> 0
A100: ='PI skaičiuoklė'!C40 -> Veiksmas F3
...

Sheet Išlaidos investicijoms
A1: Išlaidų investicijoms (I) apskaičiavimas (galiojantis teisės aktas)
A2: Teisės akto straipsnis, punktas ir įpareigojimas | B2: Objektas | D2: Išlaidos investicijoms (I), Eur
A3: 1 | B3: 2 | D3: 3
A4: ='PI skaičiuoklė'!B6 -> 11 str. 2 d. Pranešimą apie šaukiamą visuotinį susirinkimą šio straipsnio 1 dalyje nurodytas susirinkimo organizatorius (iniciatorius) turi ne vėliau kaip prieš 14 dienų iki susirinkimo dienos paskelbti bendrijos skelbimų lentoje arba kitose gerai matomose vietose, nurodyti susirinkimo vietą, datą ir laiką, kartu paskelbti susirinkimo darbotvarkę ir siūlomų sprendimų projektus arba nurodyti vietą, kur ir kokiu laiku galima susipažinti su sprendimų projektais. Jeigu visuotinio susirinkimo darbotvarkėje numatyta rinkti ar atšaukti bendrijos valdymo organą, keisti bendrijos įstatus ar svarstyti bendrijos reorganizavimo ar likvidavimo klausimus, metinę bendrijos pajamų ir išlaidų sąmatą, apie visuotinį susirinkimą bendrijos nariams pranešama raštu. Jeigu susirinkimo darbotvarkėje numatyta priimti šio įstatymo 12 straipsnio 1 dalyje numatytus sprendimus, apie visuotinį susirinkimą raštu pranešama visiems to pastato (tų pastatų), kuriame (kuriuose) įsteigta bendrija, butų ir kitų patalpų savininkams.
A5: ='PI skaičiuoklė'!C7 -> Paskelbia skelbimų lentoje
B6: skelbimų lenta | C6: 0 | D6: =+C6 -> 0
B7: A1.2 | C7: 0 | D7: =+C7 -> 0
A8: Iš viso išlaidų investicijoms pagal veiksmą A1 | D8: =SUM(D6:D7) -> 0
A9: ='PI skaičiuoklė'!C8 -> Praneša raštu
B10: 0 | C10: 0 | D10: =+C10 -> 0
B11: A2.2 | C11: 0 | D11: =+C11 -> 0
A12: Iš viso išlaidų investicijoms pagal veiksmą A2 | D12: =SUM(D10:D11) -> 0
A13: ='PI skaičiuoklė'!C9 -> Veiksmas A3
B14: A3.1 | C14: 0 | D14: =+C14 -> 0
B15: A3.2 | C15: 0 | D15: =+C15 -> 0
A16: Iš viso išlaidų investicijoms pagal veiksmą A3 | D16: =SUM(D14:D15) -> 0
A17: Iš viso išlaidų investicijoms pagal įpareigojimą A | D17: =SUM(D8,D12,D16) -> 0
A18: ='PI skaičiuoklė'!B12 -> 0
A19: ='PI skaičiuoklė'!C13 -> 0
B20: 0 | C20: 0 | D20: =+C20 -> 0
B21: B1.2 | C21: 0 | D21: =+C21 -> 0
A22: Iš viso išlaidų investicijoms pagal veiksmą B1 | D22: =SUM(D20:D21) -> 0
A23: ='PI skaičiuoklė'!C14 -> Veiksmas B2
B24: B2.1 | C24: 0 | D24: =+C24 -> 0
B25: B2.2 | C25: 0 | D25: =+C25 -> 0
A26: Iš viso išlaidų investicijoms pagal veiksmą B2 | D26: =SUM(D24:D25) -> 0
A27: ='PI skaičiuoklė'!C15 -> Veiksmas B3
B28: B3.1 | C28: 0 | D28: =+C28 -> 0
B29: B3.2 | C29: 0 | D29: =+C29 -> 0
A30: Iš viso išlaidų investicijoms pagal veiksmą B3 | D30: =SUM(D28:D29) -> 0
A31: Iš viso išlaidų investicijoms pagal įpareigojimą B | D31: =SUM(D22,D26,D30) -> 0
A32: ='PI skaičiuoklė'!B18 -> Straipsnis (-iai), punktas (-ai) ir įpareigojimas
A33: ='PI skaičiuoklė'!C19 -> Veiksmas C1
B34: C1.1 | C34: 0 | D34: =+C34 -> 0
B35: C1.2 | C35: 0 | D35: =+C35 -> 0
A36: Iš viso išlaidų investicijoms pagal veiksmą C1 | D36: =SUM(D34:D35) -> 0
A37: ='PI skaičiuoklė'!C20 -> Veiksmas C2
B38: C2.1 | C38: 0 | D38: =+C38 -> 0
B39: C2.2 | C39: 0 | D39: =+C39 -> 0
A40: Iš viso išlaidų investicijoms pagal veiksmą C2 | D40: =SUM(D38:D39) -> 0
A41: ='PI skaičiuoklė'!C21 -> Veiksmas C3
B42: C3.1 | C42: 0 | D42: =+C42 -> 0
B43: C3.2 | C43: 0 | D43: =+C43 -> 0
A44: Iš viso išlaidų investicijoms pagal veiksmą C3 | D44: =SUM(D42:D43) -> 0
A45: Iš viso išlaidų investicijoms pagal įpareigojimą C | D45: =SUM(D36,D40,D44) -> 0
A46: ='PI skaičiuoklė'!B25 -> Straipsnis (-iai), punktas (-ai) ir įpareigojimas
A47: ='PI skaičiuoklė'!C26 -> Veiksmas D1
B48: D1.1 | C48: 0 | D48: =+C48 -> 0
B49: D1.2 | C49: 0 | D49: =+C49 -> 0
A50: Iš viso išlaidų investicijoms pagal veiksmą D1 | D50: =SUM(D48:D49) -> 0
A51: ='PI skaičiuoklė'!C27 -> Veiksmas D2
B52: D2.1 | C52: 0 | D52: =+C52 -> 0
B53: D2.2 | C53: 0 | D53: =+C53 -> 0
A54: Iš viso išlaidų investicijoms pagal veiksmą D2 | D54: =SUM(D52:D53) -> 0
A55: ='PI skaičiuoklė'!C28 -> Veiksmas D3
B56: D3.1 | C56: 0 | D56: =+C56 -> 0
B57: D3.2 | C57: 0 | D57: =+C57 -> 0
A58: Iš viso išlaidų investicijoms pagal veiksmą D3 | D58: =SUM(D56:D57) -> 0
A59: Iš viso išlaidų investicijoms pagal įpareigojimą D | D59: =SUM(D50,D54,D58) -> 0
A60: ='PI skaičiuoklė'!B31 -> Straipsnis (-iai), punktas (-ai) ir įpareigojimas
A61: ='PI skaičiuoklė'!C32 -> Veiksmas E1
B62: E1.1 | C62: 0 | D62: =+C62 -> 0
B63: E1.2 | C63: 0 | D63: =+C63 -> 0
A64: Iš viso išlaidų investicijoms pagal veiksmą E1 | D64: =SUM(D62:D63) -> 0
A65: ='PI skaičiuoklė'!C33 -> Veiksmas E2
B66: E2.1 | C66: 0 | D66: =+C66 -> 0
B67: E2.2 | C67: 0 | D67: =+C67 -> 0
A68: Iš viso išlaidų investicijoms pagal veiksmą E2 | D68: =SUM(D66:D67) -> 0
A69: ='PI skaičiuoklė'!C34 -> Veiksmas E3
B70: E3.1 | C70: 0 | D70: =+C70 -> 0
B71: E3.2 | C71: 0 | D71: =+C71 -> 0
A72: Iš viso išlaidų investicijoms pagal veiksmą E3 | D72: =SUM(D70:D71) -> 0
A73: Iš viso išlaidų investicijoms pagal įpareigojimą E | D73: =SUM(D64,D68,D72) -> 0
A74: ='PI skaičiuoklė'!B37 -> Straipsnis (-iai), punktas (-ai) ir įpareigojimas
A75: ='PI skaičiuoklė'!C38 -> Veiksmas F1
B76: F1.1 | C76: 0 | D76: =+C76 -> 0
B77: F1.2 | C77: 0 | D77: =+C77 -> 0
A78: Iš viso išlaidų investicijoms pagal veiksmą F1 | D78: =SUM(D76:D77) -> 0
A79: ='PI skaičiuoklė'!C39 -> Veiksmas F2
B80: F2.1 | C80: 0 | D80: =+C80 -> 0
B81: F2.2 | C81: 0 | D81: =+C81 -> 0
A82: Iš viso išlaidų investicijoms pagal veiksmą F2 | D82: =SUM(D80:D81) -> 0
A83: ='PI skaičiuoklė'!C40 -> Veiksmas F3
B84: F3.1 | C84: 0 | D84: =+C84 -> 0
B85: F3.2 | C85: 0 | D85: =+C85 -> 0
A86: Iš viso išlaidų investicijoms pagal veiksmą F3 | D86: =SUM(D84:D85) -> 0
A87: Iš viso išlaidų investicijoms pagal įpareigojimą F | D87: =SUM(D78,D82,D86) -> 0
A92: Išlaidų investicijoms (I) apskaičiavimas (teisės akto projektas)
A93: Teisės akto projekto straipsnis, punktas ir įpareigojimas | B93: Objektas | D93: Išlaidos investicijoms (I), Eur
A94: 1 | B94: 2 | D94: 3
A95: ='PI skaičiuoklė'!B45 -> 4 str. 7 d. Bendrijos steigiamajame susirinkime priėmus sprendimą steigti bendriją, išrinktasis bendrijos pirmininkas ne vėliau kaip per 10 darbo dienų nuo bendrijos steigiamojo susirinkimo dienos privalo elektroninių ryšių priemonėmis, paštu, asmeniškai arba per atstovą pranešti apie priimtą sprendimą steigti bendriją statytojui arba bendrojo naudojimo objektų, kuriems valdyti steigiama bendrija, valdytojui – jungtinės veiklos sutartimi įgaliotam asmeniui ar bendrojo naudojimo objektų administratoriui.
A96: ='PI skaičiuoklė'!C46 -> pranešti elektroninių ryšių priemonėmis, paštu, asmeniškai arba per atstovą
B97: 0 | C97: 0 | D97: =+C97 -> 0
B98: A1.2 | C98: 0 | D98: =+C98 -> 0
A99: Iš viso išlaidų investicijoms pagal veiksmą A1 | D99: =SUM(D97:D98) -> 0
A100: ='PI skaičiuoklė'!C47 -> Veiksmas A2
B101: A2.1 | C101: 0 | D101: =+C101 -> 0
B102: A2.2 | C102: 0 | D102: =+C102 -> 0
A103: Iš viso išlaidų investicijoms pagal veiksmą A2 | D103: =SUM(D101:D102) -> 0
A104: ='PI skaičiuoklė'!C48 -> Veiksmas A3
...

Sheet Išlaidos medžiagoms
A1: Išlaidų medžiagoms (M) apskaičiavimas (galiojantis teisės aktas)
A2: Teisės akto straipsnis, punktas ir įpareigojimas | B2: Medžiaga arba medžiagų grupė | C2: Medžiagos kiekis / metus (svorio ar tūrio matais arba vienetais) (Q) | D2: Medžiagos (medžiagų) grupės kaina už kiekio vienetą (K) (Eur už svorio ar tūrio matą arba vienetą), Eur/kiekio matą | E2: Išlaidos medžiagoms (M), Eur
A3: 1 | B3: 2 | C3: 3 | D3: 4 | E3: 5
A4: ='PI skaičiuoklė'!B6 -> 11 str. 2 d. Pranešimą apie šaukiamą visuotinį susirinkimą šio straipsnio 1 dalyje nurodytas susirinkimo organizatorius (iniciatorius) turi ne vėliau kaip prieš 14 dienų iki susirinkimo dienos paskelbti bendrijos skelbimų lentoje arba kitose gerai matomose vietose, nurodyti susirinkimo vietą, datą ir laiką, kartu paskelbti susirinkimo darbotvarkę ir siūlomų sprendimų projektus arba nurodyti vietą, kur ir kokiu laiku galima susipažinti su sprendimų projektais. Jeigu visuotinio susirinkimo darbotvarkėje numatyta rinkti ar atšaukti bendrijos valdymo organą, keisti bendrijos įstatus ar svarstyti bendrijos reorganizavimo ar likvidavimo klausimus, metinę bendrijos pajamų ir išlaidų sąmatą, apie visuotinį susirinkimą bendrijos nariams pranešama raštu. Jeigu susirinkimo darbotvarkėje numatyta priimti šio įstatymo 12 straipsnio 1 dalyje numatytus sprendimus, apie visuotinį susirinkimą raštu pranešama visiems to pastato (tų pastatų), kuriame (kuriuose) įsteigta bendrija, butų ir kitų patalpų savininkams.
A5: ='PI skaičiuoklė'!C7 -> Paskelbia skelbimų lentoje
B6: 0 | C6: 0 | D6: 0 | E6: =+C6*D6 -> 0
B7: A1.2 | C7: 0 | D7: 0 | E7: =+C7*D7 -> 0
A8: Iš viso išlaidų medžiagoms pagal veiksmą A1 | E8: =SUM(E6:E7) -> 0
A9: ='PI skaičiuoklė'!C8 -> Praneša raštu
B10: 0 | C10: 0 | D10: 0 | E10: =+C10*D10 -> 0
B11: A2.2 | C11: 0 | D11: 0 | E11: =+C11*D11 -> 0
A12: Iš viso išlaidų medžiagoms pagal veiksmą A2 | E12: =SUM(E10:E11) -> 0
A13: ='PI skaičiuoklė'!C9 -> Veiksmas A3
B14: A3.1 | C14: 0 | D14: 0 | E14: =+C14*D14 -> 0
B15: A3.2 | C15: 0 | D15: 0 | E15: =+C15*D15 -> 0
A16: Iš viso išlaidų medžiagoms pagal veiksmą A3 | E16: =SUM(E14:E15) -> 0
B17: ... | E17: …
A18: Iš viso išlaidų medžiagoms pagal įpareigojimą A | E18: =SUM(E8,E12,E16) -> 0
A19: ='PI skaičiuoklė'!B12 -> 0
A20: ='PI skaičiuoklė'!C13 -> 0
B21: 0 | C21: 0 | D21: 0 | E21: =+C21*D21 -> 0
B22: B1.2 | C22: 0 | D22: 0 | E22: =+C22*D22 -> 0
A23: Iš viso išlaidų medžiagoms pagal veiksmą B1 | E23: =SUM(E21:E22) -> 0
A24: ='PI skaičiuoklė'!C14 -> Veiksmas B2
B25: B2.1 | C25: 0 | D25: 0 | E25: =+C25*D25 -> 0
B26: B2.2 | C26: 0 | D26: 0 | E26: =+C26*D26 -> 0
A27: Iš viso išlaidų medžiagoms pagal veiksmą B2 | E27: =SUM(E25:E26) -> 0
A28: ='PI skaičiuoklė'!C15 -> Veiksmas B3
B29: B3.1 | C29: 0 | D29: 0 | E29: =+C29*D29 -> 0
B30: B3.2 | C30: 0 | D30: 0 | E30: =+C30*D30 -> 0
A31: Iš viso išlaidų medžiagoms pagal veiksmą B3 | E31: =SUM(E29:E30) -> 0
B32: ... | E32: ....
A33: Iš viso išlaidų medžiagoms pagal įpareigojimą B | E33: =SUM(E23,E27,E31) -> 0
A34: ='PI skaičiuoklė'!B18 -> Straipsnis (-iai), punktas (-ai) ir įpareigojimas
A35: ='PI skaičiuoklė'!C19 -> Veiksmas C1
B36: C1.1 | C36: 0 | D36: 0 | E36: =+C36*D36 -> 0
B37: C1.2 | C37: 0 | D37: 0 | E37: =+C37*D37 -> 0
A38: Iš viso išlaidų medžiagoms pagal veiksmą C1 | E38: =SUM(E36:E37) -> 0
A39: ='PI skaičiuoklė'!C20 -> Veiksmas C2
B40: C2.1 | C40: 0 | D40: 0 | E40: =+C40*D40 -> 0
B41: C2.2 | C41: 0 | D41: 0 | E41: =+C41*D41 -> 0
A42: Iš viso išlaidų medžiagoms pagal veiksmą C2 | E42: =SUM(E40:E41) -> 0
A43: ='PI skaičiuoklė'!C21 -> Veiksmas C3
B44: C3.1 | C44: 0 | D44: 0 | E44: =+C44*D44 -> 0
B45: C3.2 | C45: 0 | D45: 0 | E45: =+C45*D45 -> 0
A46: Iš viso išlaidų medžiagoms pagal veiksmą C3 | E46: =SUM(E44:E45) -> 0
B47: ... | E47: …
A48: Iš viso išlaidų medžiagoms pagal įpareigojimą C | E48: =SUM(E38,E42,E46) -> 0
A49: ='PI skaičiuoklė'!B25 -> Straipsnis (-iai), punktas (-ai) ir įpareigojimas
A50: ='PI skaičiuoklė'!C26 -> Veiksmas D1
B51: D1.1 | C51: 0 | D51: 0 | E51: =+C51*D51 -> 0
B52: D1.2 | C52: 0 | D52: 0 | E52: =+C52*D52 -> 0
A53: Iš viso išlaidų medžiagoms pagal veiksmą D1 | E53: =SUM(E51:E52) -> 0
A54: ='PI skaičiuoklė'!C27 -> Veiksmas D2
B55: D2.1 | C55: 0 | D55: 0 | E55: =+C55*D55 -> 0
B56: D2.2 | C56: 0 | D56: 0 | E56: =+C56*D56 -> 0
A57: Iš viso išlaidų medžiagoms pagal veiksmą D2 | E57: =SUM(E55:E56) -> 0
A58: ='PI skaičiuoklė'!C28 -> Veiksmas D3
B59: D3.1 | C59: 0 | D59: 0 | E59: =+C59*D59 -> 0
B60: D3.2 | C60: 0 | D60: 0 | E60: =+C60*D60 -> 0
A61: Iš viso išlaidų medžiagoms pagal veiksmą D3 | E61: =SUM(E59:E60) -> 0
B62: ... | E62: ....
A63: Iš viso išlaidų medžiagoms pagal įpareigojimą D | E63: =SUM(E53,E57,E61) -> 0
A64: ='PI skaičiuoklė'!B31 -> Straipsnis (-iai), punktas (-ai) ir įpareigojimas
A65: ='PI skaičiuoklė'!C32 -> Veiksmas E1
B66: E1.1 | C66: 0 | D66: 0 | E66: =+C66*D66 -> 0
B67: E1.2 | C67: 0 | D67: 0 | E67: =+C67*D67 -> 0
A68: Iš viso išlaidų medžiagoms pagal veiksmą E1 | E68: =SUM(E66:E67) -> 0
A69: ='PI skaičiuoklė'!C33 -> Veiksmas E2
B70: E2.1 | C70: 0 | D70: 0 | E70: =+C70*D70 -> 0
B71: E2.2 | C71: 0 | D71: 0 | E71: =+C71*D71 -> 0
A72: Iš viso išlaidų medžiagoms pagal veiksmą E2 | E72: =SUM(E70:E71) -> 0
A73: ='PI skaičiuoklė'!C34 -> Veiksmas E3
B74: E3.1 | C74: 0 | D74: 0 | E74: =+C74*D74 -> 0
B75: E3.2 | C75: 0 | D75: 0 | E75: =+C75*D75 -> 0
A76: Iš viso išlaidų medžiagoms pagal veiksmą E3 | E76: =SUM(E74:E75) -> 0
B77: ... | E77: …
A78: Iš viso išlaidų medžiagoms pagal įpareigojimą E | E78: =SUM(E68,E72,E76) -> 0
A79: ='PI skaičiuoklė'!B37 -> Straipsnis (-iai), punktas (-ai) ir įpareigojimas
A80: ='PI skaičiuoklė'!C38 -> Veiksmas F1
B81: F1.1 | C81: 0 | D81: 0 | E81: =+C81*D81 -> 0
B82: F1.2 | C82: 0 | D82: 0 | E82: =+C82*D82 -> 0
A83: Iš viso išlaidų medžiagoms pagal veiksmą F1 | E83: =SUM(E81:E82) -> 0
A84: ='PI skaičiuoklė'!C39 -> Veiksmas F2
B85: F2.1 | C85: 0 | D85: 0 | E85: =+C85*D85 -> 0
B86: F2.2 | C86: 0 | D86: 0 | E86: =+C86*D86 -> 0
A87: Iš viso išlaidų medžiagoms pagal veiksmą F2 | E87: =SUM(E85:E86) -> 0
A88: ='PI skaičiuoklė'!C40 -> Veiksmas F3
B89: F3.1 | C89: 0 | D89: 0 | E89: =+C89*D89 -> 0
B90: F3.2 | C90: 0 | D90: 0 | E90: =+C90*D90 -> 0
A91: Iš viso išlaidų medžiagoms pagal veiksmą F3 | E91: =SUM(E89:E90) -> 0
B92: ... | E92: ....
A93: Iš viso išlaidų medžiagoms pagal įpareigojimą F | E93: =SUM(E83,E87,E91) -> 0
A101: Išlaidų medžiagoms (M) apskaičiavimas (teisės akto projektas)
A102: Teisės akto projekto straipsnis, punktas ir įpareigojimas | B102: Medžiaga arba medžiagų grupė | C102: Medžiagos kiekis / metus (svorio ar tūrio matais arba vienetais) (Q) | D102: Medžiagos (medžiagų) grupės kaina už kiekio vienetą (K) (Eur už svorio ar tūrio matą arba vienetą), Eur/kiekio matą | E102: Išlaidos medžiagoms (M), Eur
A103: 1 | B103: 2 | C103: 3 | D103: 4 | E103: 5
A104: ='PI skaičiuoklė'!B45 -> 4 str. 7 d. Bendrijos steigiamajame susirinkime priėmus sprendimą steigti bendriją, išrinktasis bendrijos pirmininkas ne vėliau kaip per 10 darbo dienų nuo bendrijos steigiamojo susirinkimo dienos privalo elektroninių ryšių priemonėmis, paštu, asmeniškai arba per atstovą pranešti apie priimtą sprendimą steigti bendriją statytojui arba bendrojo naudojimo objektų, kuriems valdyti steigiama bendrija, valdytojui – jungtinės veiklos sutartimi įgaliotam asmeniui ar bendrojo naudojimo objektų administratoriui.
A105: ='PI skaičiuoklė'!C46 -> pranešti elektroninių ryšių priemonėmis, paštu, asmeniškai arba per atstovą
B106: 0 | C106: 0 | D106: 0 | E106: =+C106*D106 -> 0
B107: A1.2 | C107: 0 | D107: 0 | E107: =+C107*D107 -> 0
...

Sheet Išlaidos paslaugoms
A1: Išlaidų iš išorės įsigyjamoms paslaugoms (darbams) (E) apskaičiavimas (galiojantis teisės aktas)
A2: Teisės akto straipsnis, punktas ir įpareigojimas | B2: Iš išorės įsigyjamos paslaugos (darbai) | C2: Paslaugų (darbų) kaina (E), Eur
A3: 1 | B3: 2 | C3: 3
A4: ='PI skaičiuoklė'!B6 -> 11 str. 2 d. Pranešimą apie šaukiamą visuotinį susirinkimą šio straipsnio 1 dalyje nurodytas susirinkimo organizatorius (iniciatorius) turi ne vėliau kaip prieš 14 dienų iki susirinkimo dienos paskelbti bendrijos skelbimų lentoje arba kitose gerai matomose vietose, nurodyti susirinkimo vietą, datą ir laiką, kartu paskelbti susirinkimo darbotvarkę ir siūlomų sprendimų projektus arba nurodyti vietą, kur ir kokiu laiku galima susipažinti su sprendimų projektais. Jeigu visuotinio susirinkimo darbotvarkėje numatyta rinkti ar atšaukti bendrijos valdymo organą, keisti bendrijos įstatus ar svarstyti bendrijos reorganizavimo ar likvidavimo klausimus, metinę bendrijos pajamų ir išlaidų sąmatą, apie visuotinį susirinkimą bendrijos nariams pranešama raštu. Jeigu susirinkimo darbotvarkėje numatyta priimti šio įstatymo 12 straipsnio 1 dalyje numatytus sprendimus, apie visuotinį susirinkimą raštu pranešama visiems to pastato (tų pastatų), kuriame (kuriuose) įsteigta bendrija, butų ir kitų patalpų savininkams.
A5: ='PI skaičiuoklė'!C7 -> Paskelbia skelbimų lentoje
B6: 0 | C6: 0
B7: A1.2 | C7: 0
A8: Iš viso išlaidų iš išorės įsigyjamoms paslaugoms (darbams) pagal veiksmą A1 | C8: =SUM(C6:C7) -> 0
A9: ='PI skaičiuoklė'!C8 -> Praneša raštu
B10: 0 | C10: 0
B11: A2.2 | C11: 0
A12: Iš viso išlaidų iš išorės įsigyjamoms paslaugoms (darbams) pagal veiksmą A2 | C12: =SUM(C10:C11) -> 0
A13: ='PI skaičiuoklė'!C9 -> Veiksmas A3
B14: A3.1 | C14: 0
B15: A3.2 | C15: 0
A16: Iš viso išlaidų iš išorės įsigyjamoms paslaugoms (darbams) pagal veiksmą A3 | C16: =SUM(C14:C15) -> 0
B17: ...
A18: Iš viso išlaidų iš išorės įsigyjamoms paslaugoms (darbams) pagal įpareigojimą A | C18: =SUM(C8,C12,C16) -> 0
A19: ='PI skaičiuoklė'!B12 -> 0
A20: ='PI skaičiuoklė'!C13 -> 0
B21: 0 | C21: 0
B22: B1.2 | C22: 0
A23: Iš viso išlaidų iš išorės įsigyjamoms paslaugoms (darbams) pagal veiksmą B1 | C23: =SUM(C21:C22) -> 0
A24: ='PI skaičiuoklė'!C14 -> Veiksmas B2
B25: B2.1 | C25: 0
B26: B2.2 | C26: 0
A27: Iš viso išlaidų iš išorės įsigyjamoms paslaugoms (darbams) pagal veiksmą B2 | C27: =SUM(C25:C26) -> 0
A28: ='PI skaičiuoklė'!C15 -> Veiksmas B3
B29: B3.1 | C29: 0
B30: B3.2 | C30: 0
A31: Iš viso išlaidų iš išorės įsigyjamoms paslaugoms (darbams) pagal veiksmą B3 | C31: =SUM(C29:C30) -> 0
B32: ... | C32: ...
A33: Iš viso išlaidų iš išorės įsigyjamoms paslaugoms (darbams) pagal įpareigojimą B | C33: =SUM(C23,C27,C31) -> 0
A34: ='PI skaičiuoklė'!B18 -> Straipsnis (-iai), punktas (-ai) ir įpareigojimas
A35: ='PI skaičiuoklė'!C19 -> Veiksmas C1
B36: C1.1 | C36: 0
B37: C1.2 | C37: 0
A38: Iš viso išlaidų iš išorės įsigyjamoms paslaugoms (darbams) pagal veiksmą C1 | C38: =SUM(C36:C37) -> 0
A39: ='PI skaičiuoklė'!C20 -> Veiksmas C2
B40: C2.1 | C40: 0
B41: C2.2 | C41: 0
A42: Iš viso išlaidų iš išorės įsigyjamoms paslaugoms (darbams) pagal veiksmą C2 | C42: =SUM(C40:C41) -> 0
A43: ='PI skaičiuoklė'!C21 -> Veiksmas C3
B44: C3.1 | C44: 0
B45: C3.2 | C45: 0
A46: Iš viso išlaidų iš išorės įsigyjamoms paslaugoms (darbams) pagal veiksmą C3 | C46: =SUM(C44:C45) -> 0
B47: ...
A48: Iš viso išlaidų iš išorės įsigyjamoms paslaugoms (darbams) pagal įpareigojimą C | C48: =SUM(C38,C42,C46) -> 0
A49: ='PI skaičiuoklė'!B25 -> Straipsnis (-iai), punktas (-ai) ir įpareigojimas
A50: ='PI skaičiuoklė'!C26 -> Veiksmas D1
B51: D1.1 | C51: 0
B52: D1.2 | C52: 0
A53: Iš viso išlaidų iš išorės įsigyjamoms paslaugoms (darbams) pagal veiksmą D1 | C53: =SUM(C51:C52) -> 0
A54: ='PI skaičiuoklė'!C27 -> Veiksmas D2
B55: D2.1 | C55: 0
B56: D2.2 | C56: 0
A57: Iš viso išlaidų iš išorės įsigyjamoms paslaugoms (darbams) pagal veiksmą D2 | C57: =SUM(C55:C56) -> 0
A58: ='PI skaičiuoklė'!C28 -> Veiksmas D3
B59: D3.1 | C59: 0
B60: D3.2 | C60: 0
A61: Iš viso išlaidų iš išorės įsigyjamoms paslaugoms (darbams) pagal veiksmą D3 | C61: =SUM(C59:C60) -> 0
B62: ... | C62: ...
A63: Iš viso išlaidų iš išorės įsigyjamoms paslaugoms (darbams) pagal įpareigojimą D | C63: =SUM(C53,C57,C61) -> 0
A64: ='PI skaičiuoklė'!B31 -> Straipsnis (-iai), punktas (-ai) ir įpareigojimas
A65: ='PI skaičiuoklė'!C32 -> Veiksmas E1
B66: E1.1 | C66: 0
B67: E1.2 | C67: 0
A68: Iš viso išlaidų iš išorės įsigyjamoms paslaugoms (darbams) pagal veiksmą E1 | C68: =SUM(C66:C67) -> 0
A69: ='PI skaičiuoklė'!C33 -> Veiksmas E2
B70: E2.1 | C70: 0
B71: E2.2 | C71: 0
A72: Iš viso išlaidų iš išorės įsigyjamoms paslaugoms (darbams) pagal veiksmą E2 | C72: =SUM(C70:C71) -> 0
A73: ='PI skaičiuoklė'!C34 -> Veiksmas E3
B74: E3.1 | C74: 0
B75: E3.2 | C75: 0
A76: Iš viso išlaidų iš išorės įsigyjamoms paslaugoms (darbams) pagal veiksmą E3 | C76: =SUM(C74:C75) -> 0
B77: ...
A78: Iš viso išlaidų iš išorės įsigyjamoms paslaugoms (darbams) pagal įpareigojimą E | C78: =SUM(C68,C72,C76) -> 0
A79: ='PI skaičiuoklė'!B37 -> Straipsnis (-iai), punktas (-ai) ir įpareigojimas
A80: ='PI skaičiuoklė'!C38 -> Veiksmas F1
B81: F1.1 | C81: 0
B82: F1.2 | C82: 0
A83: Iš viso išlaidų iš išorės įsigyjamoms paslaugoms (darbams) pagal veiksmą F1 | C83: =SUM(C81:C82) -> 0
A84: ='PI skaičiuoklė'!C39 -> Veiksmas F2
B85: F2.1 | C85: 0
B86: F2.2 | C86: 0
A87: Iš viso išlaidų iš išorės įsigyjamoms paslaugoms (darbams) pagal veiksmą F2 | C87: =SUM(C85:C86) -> 0
A88: ='PI skaičiuoklė'!C40 -> Veiksmas F3
B89: F3.1 | C89: 0
B90: F3.2 | C90: 0
A91: Iš viso išlaidų iš išorės įsigyjamoms paslaugoms (darbams) pagal veiksmą F3 | C91: =SUM(C89:C90) -> 0
B92: ... | C92: ...
A93: Iš viso išlaidų iš išorės įsigyjamoms paslaugoms (darbams) pagal įpareigojimą F | C93: =SUM(C83,C87,C91) -> 0
A100: Išlaidų iš išorės įsigyjamoms paslaugoms (darbams) (E) apskaičiavimas (teisės akto projektas)
A101: Teisės akto projekto straipsnis, punktas ir įpareigojimas | B101: Iš išorės įsigyjamos paslaugos (darbai) | C101: Paslaugų (darbų) kaina (E), Eur
A102: 1 | B102: 2 | C102: 3
A103: ='PI skaičiuoklė'!B45 -> 4 str. 7 d. Bendrijos steigiamajame susirinkime priėmus sprendimą steigti bendriją, išrinktasis bendrijos pirmininkas ne vėliau kaip per 10 darbo dienų nuo bendrijos steigiamojo susirinkimo dienos privalo elektroninių ryšių priemonėmis, paštu, asmeniškai arba per atstovą pranešti apie priimtą sprendimą steigti bendriją statytojui arba bendrojo naudojimo objektų, kuriems valdyti steigiama bendrija, valdytojui – jungtinės veiklos sutartimi įgaliotam asmeniui ar bendrojo naudojimo objektų administratoriui.
A104: ='PI skaičiuoklė'!C46 -> pranešti elektroninių ryšių priemonėmis, paštu, asmeniškai arba per atstovą
B105: 0 | C105: 0
B106: A1.2 | C106: 0
...
