Workbook

Sheet PI skaičiuoklė
A1: Ūkio subjektų administracinės naštos ir prisitaikymo prie reguliavimo išlaidų vertinimo pinigine išraiška skaičiuoklė
A3: Eil. Nr. | B3: Teisės akto (teisės akto projekto) straipsnis (-iai), punktas (-ai) ir įpareigojimas | C3: Įpareigojimo vykdymo veiksmas | D3: Kilmė (Europos Sąjungos arba tarptautinė, nacionalinė) | E3: Tikslinė grupė (T) (ūkio subjektų skaičius, vnt.) | F3: Išlaidos darbuotojams (D), Eur | G3: Išlaidos investicijoms (I), Eur | H3: Išlaidos medžiagoms (M), Eur | I3: Išlaidos paslaugoms (darbams) įsigyti, Eur, (E) | J3: Pridėtinės išlaidos (O), Eur, (0,05*((6)+(7)+(8)+(9))) | K3: Įpareigojimo tikslinės grupės veikiančiam ūkio subjektui, vykdančiam ekonominę veiklą rinkos sąlygomis ir įgyvendinančiam įpareigojimą verslo praktikoje pagrįstomis sąnaudomis, sukeliama prisitaikymo prie reguliavimo išlaidų (toliau – prisitaikymo išlaidos) suma (S), Eur ((6) + (7) + (8) + (9) + (10) | L3: Įpareigojimo tikslinei grupei sukeliama prisitaikymo išlaidų suma (PI), Eur, ((5)*(11))
A4: 1 | B4: 2 | C4: 3 | D4: 4 | E4: 5 | F4: 6 | G4: 7 | H4: 8 | I4: 9 | J4: 10 | K4: 11 | L4: 12
A5: 1. | B5: LIETUVOS RESPUBLIKOS BIOMEDICININIŲ TYRIMŲ ETIKOS ĮSTATYMAS
A6: 1.1. | B6: 12 straipsnis 2. Biomedicininio tyrimo (išskyrus klinikinį tyrimą su medicinos priemone ir veiksmingumo tyrimą), kuriame dalyvaujančiam asmeniui tyrimo tikslais taikomi intervenciniai tyrimo metodai kelia riziką tiriamojo sveikatai, taip pat klinikinio vaistinio preparato tyrimo užsakovas ir pagrindinis tyrėjas privalo drausti savo civilinę atsakomybę dėl galimos turtinės ir neturtinės žalos, atsiradusios dėl tiriamojo sveikatos sužalojimo ar tiriamojo mirties, atlyginimo, sudarydami biomedicininio tyrimo užsakovo ir pagrindinio tyrėjo civilinės atsakomybės privalomojo draudimo sutartis su draudikais, išskyrus šio straipsnio 3 dalyje nurodytus atvejus, kai biomedicininius tyrimus leidžiama atlikti ir neturint biomedicininio tyrimo užsakovo ir pagrindinio tyrėjo civilinės atsakomybės privalomojo draudimo. <...> | D6: Nacionalinė | E6: 1
A7: 1.1.1. | C7: Derinama ir pasirašoma civilinės atsakomybės draudimo sutartis | F7: ='Išlaidos darbuotojams'!G9 -> 10860.85 | G7: ='Išlaidos investicijoms'!D8 -> 0 | H7: ='Išlaidos medžiagoms'!E8 -> 0 | I7: ='Išlaidos paslaugoms'!C8 -> 258059.12 | J7: =0.05*(F7+G7+H7+I7) -> 13445.999 | K7: =SUM(F7:J7) -> 282365.97
A8: 1.1.2. | F8: ='Išlaidos darbuotojams'!G14 -> 0 | G8: ='Išlaidos investicijoms'!D12 -> 0 | H8: ='Išlaidos medžiagoms'!E12 -> 0 | I8: ='Išlaidos paslaugoms'!C12 -> 0 | J8: =0.05*(F8+G8+H8+I8) -> 0 | K8: =SUM(F8:J8) -> 0
A9: ... | C9: ...
B10: Iš viso prisitaikymo išlaidų pagal įpareigojimą A | L10: =SUM(K7:K8)*E6 -> 282365.97
A11: 1.2. | E11: 0
A12: 1.2.1. | C12: Veiksmas B1 | F12: ='Išlaidos darbuotojams'!G21 -> 0 | G12: ='Išlaidos investicijoms'!D19 -> 0 | H12: ='Išlaidos medžiagoms'!E19 -> 0 | I12: ='Išlaidos medžiagoms'!E19 -> 0 | J12: =0.05*(F12+G12+H12+I12) -> 0 | K12: =SUM(F12:J12) -> 0
A13: 1.2.2. | C13: Veiksmas B2 | F13: ='Išlaidos darbuotojams'!G26 -> 0 | G13: ='Išlaidos investicijoms'!D23 -> 0 | H13: ='Išlaidos medžiagoms'!E23 -> 0 | I13: ='Išlaidos medžiagoms'!E23 -> 0 | J13: =0.05*(F13+G13+H13+I13) -> 0 | K13: =SUM(F13:J13) -> 0
A14: ... | C14: .......
B15: Iš viso prisitaikymo išlaidų pagal įpareigojimą B | L15: =SUM(K12:K13)*E11 -> 0
B16: ... | L16: ...
B17: Iš viso prisitaikymo išlaidų pagal galiojantį teisės aktą, Eur | L17: =SUM(L10,L15) -> 282365.97
A18: 2. | B18: Lietuvos Respublikos biomedicininių tyrimų etikos įstatymo Nr. VIII-1679 1, 2, 5, 6, 7, 11, 12, 16, 23 ir 242 straipsnių pakeitimo įstatymo projektas (toliau - BMTEĮ projektas), Lietuvos Respublikos pacientų teisių ir žalos sveikatai atlyginimo įstatymo Nr. I-1562 1, 2, 13 straipsnių ir V skyriaus pakeitimo įstatymo projektas (toliau - Pacientų įstatymo projektas)
A19: 2.1. | B19: BMTEĮ projektas 7 straipsnis. 12 straipsnio pakeitimas Pakeisti 12 straipsnį ir jį išdėstyti taip: „12 straipsnis. Turtinės ir neturtinės žalos, padarytos tiriamajam, atlyginimas Biomedicininio tyrimo, nurodyto šio įstatymo 11-1 straipsnio 1 dalyje, metu padaryta turtinė ir neturtinė žala tiriamojo sveikatai atlyginama Pacientų teisių ir žalos sveikatai atlyginimo įstatymo nustatyta tvarka.“ Pacientų įstatymo projektas 4 straipsnis. V skyriaus pakeitimas Pakeisti V skyrių ir jį išdėstyti taip: "<...> 28 straipsnis. Sąskaita 1. Įmokas į sąskaitą moka visos asmens sveikatos priežiūros įstaigos." | D19: nacionalinė | E19: 1
A20: 2.1.1. | C20: Draudimo sutartis nebereikalinga | F20: ='Išlaidos darbuotojams'!G40 -> 0 | G20: ='Išlaidos investicijoms'!D37 -> 0 | H20: ='Išlaidos medžiagoms'!E40 -> 0 | I20: ='Išlaidos paslaugoms'!C39 -> 0 | J20: =0.05*(F20+G20+H20+I20) -> 0 | K20: =SUM(F20:J20) -> 0
A21: 2.1.2. | F21: =+'Išlaidos darbuotojams'!G42 -> 0 | G21: 0 | H21: ='Išlaidos medžiagoms'!$E$44 -> 0 | I21: ='Išlaidos paslaugoms'!C43 -> 0 | J21: =0.05*(F21+G21+H21+I21) -> 0 | K21: =SUM(F21:J21) -> 0
F22: =+'Išlaidos darbuotojams'!G43 -> 0 | G22: 0 | H22: ='Išlaidos medžiagoms'!$E$44 -> 0 | I22: ='Išlaidos paslaugoms'!$C$44 -> 0 | J22: =0.05*(F22+G22+H22+I22) -> 0 | K22: =SUM(F22:J22) -> 0
A23: ... | F23: =+'Išlaidos darbuotojams'!G44 -> 0 | G23: 0 | H23: ='Išlaidos medžiagoms'!$E$44 -> 0 | I23: ='Išlaidos paslaugoms'!$C$44 -> 0 | J23: =0.05*(F23+G23+H23+I23) -> 0 | K23: =SUM(F23:J23) -> 0
B24: Iš viso prisitaikymo išlaidų pagal įpareigojimą A | L24: =+K20+K21+K22+K23 -> 0
A25: 2.2.
A26: 2.2.1. | C26: Veiksmas B1 | F26: =+'Išlaidos darbuotojams'!G58 -> 0 | G26: ='Išlaidos investicijoms'!D48 -> 0 | H26: ='Išlaidos medžiagoms'!E51 -> 0 | I26: ='Išlaidos paslaugoms'!C50 -> 0 | J26: =0.05*(F26+G26+H26+I26) -> 0 | K26: =SUM(F26:J26) -> 0
A27: 2.2.2. | C27: Veiksmas B2 | F27: ='Išlaidos darbuotojams'!G57 -> 0 | G27: ='Išlaidos investicijoms'!D52 -> 0 | H27: ='Išlaidos medžiagoms'!E55 -> 0 | I27: ='Išlaidos paslaugoms'!C54 -> 0 | J27: =0.05*(F27+G27+H27+I27) -> 0 | K27: =SUM(F27:J27) -> 0
A28: ... | C28: ...
B29: Iš viso prisitaikymo išlaidų pagal įpareigojimą B | L29: =SUM(K26:K27)*E25 -> 0
B30: ...
B31: Iš viso prisitaikymo išlaidų pagal teisės akto projektą, Eur | L31: =SUM(L24,L29) -> 0
B32: Teisės akto projektu numatomas sukelti prisitaikymo išlaidų pokytis, Eur | L32: =+L31-L17 -> -282365.97
B35: Ataskaitinis laikotarpis | C35: Sudarytos sutartys, vnt. | D35: Draudimo įmokos, Eur
B36: 45657 | C36: 63 | D36: 231142
B37: 45291 | C37: 76 | D37: 299807
B38: 44926 | C38: 190 | D38: 280021
B39: 44561 | C39: 194 | D39: 265099
B40: 44196 | C40: 191 | D40: 212422
B41: Viso | C41: =SUM(C36:C40) -> 714 | D41: =SUM(D36:D40) -> 1288491
B42: Vidutinis sutarčių sk. per metus | C42: 143 | D42: =D41/C41 -> 1804.6092 | E42: Įmoka 1 įstaigai
B46: Rekomenduojami valandiniai tarifai pagal profesijas: draudimo agentas ir buhalteris | C46: Administracinės naštos ir prisitaikymo prie reguliavimo išlaidų vertinimo praktinė informacija - Lietuvos Respublikos ekonomikos ir inovacijų ministerija
B49: Teisės skyriaus vyresnioji patarėja | C49: Aušrinė Storpirštienė

Sheet Išlaidos darbuotojams
A1: Išlaidų darbuotojams (D) apskaičiavimas (galiojantis teisės aktas)
A2: Teisės akto straipsnis, punktas ir įpareigojimas | B2: Darbuotojas | C2: Darbuotojų skaičius, vnt. | D2: Darbuotojo vidutinio valandinio darbo užmokesčio ir nuo jo darbdavio mokamų mokesčių suma, Eur/val. | E2: Įpareigojimo vykdymo veiksmui (toliau – Veiksmas) vykdyti skirtas darbuotojo laikas, val. | F2: Veiksmo atlikimo dažnis per metus | G2: Iš viso išlaidų darbuotojams (D), Eur
A3: 1 | B3: 2 | C3: 3 | D3: 4 | E3: 5 | F3: 6 | G3: 7
A4: =+'PI skaičiuoklė'!B6 -> 12 straipsnis 2. Biomedicininio tyrimo (išskyrus klinikinį tyrimą su medicinos priemone ir veiksmingumo tyrimą), kuriame dalyvaujančiam asmeniui tyrimo tikslais taikomi intervenciniai tyrimo metodai kelia riziką tiriamojo sveikatai, taip pat klinikinio vaistinio preparato tyrimo užsakovas ir pagrindinis tyrėjas privalo drausti savo civilinę atsakomybę dėl galimos turtinės ir neturtinės žalos, atsiradusios dėl tiriamojo sveikatos sužalojimo ar tiriamojo mirties, atlyginimo, sudarydami biomedicininio tyrimo užsakovo ir pagrindinio tyrėjo civilinės atsakomybės privalomojo draudimo sutartis su draudikais, išskyrus šio straipsnio 3 dalyje nurodytus atvejus, kai biomedicininius tyrimus leidžiama atlikti ir neturint biomedicininio tyrimo užsakovo ir pagrindinio tyrėjo civilinės atsakomybės privalomojo draudimo. <...>
A5: ='PI skaičiuoklė'!C7 -> Derinama ir pasirašoma civilinės atsakomybės draudimo sutartis
A6: derina ir pasirašo sutartį | B6: Buhalteris arba tyrimo užsakovo įgaliotas asmuo | C6: 1 | D6: 14.11 | E6: 3 | F6: 143 | G6: =+C6*D6*E6*F6 -> 6053.19
A7: derina ir pasirašo sutartį | B7: Draudimo brokeris | C7: 1 | D7: 16.81 | E7: 2 | F7: 143 | G7: =+C7*D7*E7*F7 -> 4807.66
B8: ...
A9: Iš viso D išlaidų veiksmui A1, Eur | G9: =SUM(G6:G8) -> 10860.85
C11: 1 | G11: =+C11*D7*E11*F11 -> 0
B12: A2.2 | C12: 0 | D12: 0 | E12: 0 | F12: 0 | G12: =+C12*D12*E12*F12 -> 0
B13: ...
A14: Iš viso D išlaidų veiksmui A2, Eur | G14: =SUM(G11:G13) -> 0
A15: Iš viso D išlaidų pagal įpareigojimą A, Eur | G15: =SUM(G9,G14) -> 10860.85
A16: ='PI skaičiuoklė'!B11 -> 0
A17: ='PI skaičiuoklė'!C12 -> Veiksmas B1
B18: B1.1 | C18: 0 | D18: 0 | E18: 0 | F18: 0 | G18: =+C18*D18*E18*F18 -> 0
B19: B1.2 | C19: 0 | D19: 0 | E19: 0 | F19: 0 | G19: =+C19*D19*E19*F19 -> 0
B20: ...
A21: Iš viso D išlaidų veiksmui B1, Eur | G21: =SUM(G18:G20) -> 0
A22: ='PI skaičiuoklė'!C13 -> Veiksmas B2
B23: B2.1 | C23: 0 | D23: 0 | E23: 0 | F23: 0 | G23: =+C23*D23*E23*F23 -> 0
B24: B2.2 | C24: 0 | D24: 0 | E24: 0 | F24: 0 | G24: =+C24*D24*E24*F24 -> 0
B25: ...
A26: Iš viso D išlaidų veiksmui B2, Eur | G26: =SUM(G23:G25) -> 0
A27: Iš viso D išlaidų pagal įpareigojimą B, Eur | G27: =SUM(G21,G26) -> 0
A32: Išlaidų darbuotojams (D) apskaičiavimas (teisės akto projektas)
A33: Teisės akto projekto straipsnis, punktas ir įpareigojimas | B33: Darbuotojas | C33: Darbuotojų skaičius, vnt. | D33: Darbuotojo vidutinio valandinio darbo užmokesčio ir nuo jo darbdavio mokamų mokesčių suma, Eur/val. | E33: Įpareigojimo vykdymo veiksmui (toliau – Veiksmas) vykdyti skirtas darbuotojo laikas, val. | F33: Veiksmo atlikimo dažnis per metus | G33: Iš viso išlaidų darbuotojams (D), Eur
A34: 1 | B34: 2 | C34: 3 | D34: 4 | E34: 5 | F34: 6 | G34: 7
A35: ='PI skaičiuoklė'!B19 -> BMTEĮ projektas 7 straipsnis. 12 straipsnio pakeitimas Pakeisti 12 straipsnį ir jį išdėstyti taip: „12 straipsnis. Turtinės ir neturtinės žalos, padarytos tiriamajam, atlyginimas Biomedicininio tyrimo, nurodyto šio įstatymo 11-1 straipsnio 1 dalyje, metu padaryta turtinė ir neturtinė žala tiriamojo sveikatai atlyginama Pacientų teisių ir žalos sveikatai atlyginimo įstatymo nustatyta tvarka.“ Pacientų įstatymo projektas 4 straipsnis. V skyriaus pakeitimas Pakeisti V skyrių ir jį išdėstyti taip: "<...> 28 straipsnis. Sąskaita 1. Įmokas į sąskaitą moka visos asmens sveikatos priežiūros įstaigos."
A36: ='PI skaičiuoklė'!C20 -> Draudimo sutartis nebereikalinga
B39: ...
A40: Iš viso D išlaidų veiksmui A1, Eur | G40: =SUM(G37:G39) -> 0
A41: ='PI skaičiuoklė'!C21 -> 0
G44: =+C44*D44*E44*F44/5 -> 0
A45: Iš viso D išlaidų veiksmui A2, Eur | G45: =SUM(G42:G44) -> 0
A46: Iš viso D išlaidų pagal įpareigojimą A, Eur | G46: =SUM(G40,G45) -> 0
A48: ='PI skaičiuoklė'!C26 -> Veiksmas B1
B49: B1.1 | C49: 1 | E49: 0.5 | F49: 1 | G49: =+C49*D49*E49*F49 -> 0
B50: B1.2 | C50: 0 | D50: 0 | E50: 0 | F50: 0 | G50: =+C50*D50*E50*F50 -> 0
B51: ...
A52: Iš viso D išlaidų veiksmui B1, Eur | G52: =SUM(G49:G51) -> 0
A53: ='PI skaičiuoklė'!C27 -> Veiksmas B2
B54: B2.1 | C54: 0 | D54: 0 | E54: 0 | F54: 0 | G54: =+C54*D54*E54*F54 -> 0
B55: B2.2 | C55: 0 | D55: 0 | E55: 0 | F55: 0 | G55: =+C55*D55*E55*F55 -> 0
B56: ...
A57: Iš viso D išlaidų veiksmui B2, Eur | G57: =SUM(G54:G56) -> 0
A58: Iš viso D išlaidų pagal įpareigojimą B, Eur | G58: =SUM(G52,G57) -> 0

Sheet Išlaidos investicijoms
A1: Išlaidų investicijoms (I) apskaičiavimas (galiojantis teisės aktas)
A2: Teisės akto straipsnis, punktas ir įpareigojimas | B2: Objektas | D2: Išlaidos investicijoms (I), Eur
A3: 1 | B3: 2 | D3: 3
B6: A1.1 | C6: 0 | D6: =+C6 -> 0
B7: A1.2 | C7: 0 | D7: =+C7 -> 0
A8: Iš viso išlaidų investicijoms pagal veiksmą A1 | D8: =SUM(D6:D7) -> 0
B10: A2.1 | C10: 0 | D10: =+C10 -> 0
B11: A2.2 | C11: 0 | D11: =+C11 -> 0
A12: Iš viso išlaidų investicijoms pagal veiksmą A2 | D12: =SUM(D10:D11) -> 0
A13: ... | D13: ...
A14: Iš viso išlaidų investicijoms pagal įpareigojimą A | D14: =SUM(D8,D12) -> 0
A15: ='PI skaičiuoklė'!B11 -> 0
A16: AID įsigijimas
B17: AID nupirkimas | C17: 0 | D17: =+C17 -> 0
B18: B1.2 | C18: 0 | D18: =+C18 -> 0
A19: Iš viso išlaidų investicijoms pagal veiksmą B1 | D19: =SUM(D17:D18) -> 0
A20: ='PI skaičiuoklė'!C13 -> Veiksmas B2
B21: B2.1 | C21: 0 | D21: =+C21 -> 0
B22: B2.2 | C22: 0 | D22: =+C22 -> 0
A23: Iš viso išlaidų investicijoms pagal veiksmą B2 | D23: =SUM(D21:D22) -> 0
B24: ... | D24: ....
A25: Iš viso išlaidų investicijoms pagal įpareigojimą B | D25: =SUM(D19,D23) -> 0
A30: Išlaidų investicijoms (I) apskaičiavimas (teisės akto projektas)
A31: Teisės akto projekto straipsnis, punktas ir įpareigojimas | B31: Objektas | D31: Išlaidos investicijoms (I), Eur
A32: 1 | B32: 2 | D32: 3
B35: A1.1 | C35: 0 | D35: =+C35 -> 0
B36: A1.2 | C36: 0 | D36: =+C36 -> 0
A37: Iš viso išlaidų investicijoms pagal veiksmą A1 | D37: =SUM(D35:D36) -> 0
B39: A2.1 | C39: 4 | D39: =+#REF! -> #REF!
B40: A2.2 | C40: 1
A41: Iš viso išlaidų investicijoms pagal veiksmą A2 | D41: =SUM(D39:D40) -> #REF!
A42: ... | D42: ...
A43: Iš viso išlaidų investicijoms pagal įpareigojimą A | D43: =SUM(D37,D41) -> #REF!
A45: ='PI skaičiuoklė'!C26 -> Veiksmas B1
B46: B1.1 | C46: 0 | D46: =+C46 -> 0
B47: B1.2 | C47: 0 | D47: =+C47 -> 0
A48: Iš viso išlaidų investicijoms pagal veiksmą B1 | D48: =SUM(D46:D47) -> 0
A49: ='PI skaičiuoklė'!C27 -> Veiksmas B2
B50: B2.1 | C50: 0 | D50: =+C50 -> 0
B51: B2.2 | C51: 0 | D51: =+C51 -> 0
A52: Iš viso išlaidų investicijoms pagal veiksmą B2 | D52: =SUM(D50:D51) -> 0
B53: ... | D53: ....
A54: Iš viso išlaidų investicijoms pagal įpareigojimą B | D54: =SUM(D48,D52) -> 0

Sheet Išlaidos medžiagoms
A1: Išlaidų medžiagoms (M) apskaičiavimas (galiojantis teisės aktas)
A2: Teisės akto straipsnis, punktas ir įpareigojimas | B2: Medžiaga arba medžiagų grupė | C2: Medžiagos kiekis / metus (svorio ar tūrio matais arba vienetais) (Q) | D2: Medžiagos (medžiagų) grupės kaina už kiekio vienetą (K) (Eur už svorio ar tūrio matą arba vienetą), Eur/kiekio matą | E2: Išlaidos medžiagoms (M), Eur
A3: 1 | B3: 2 | C3: 3 | D3: 4 | E3: 5
A4: ='PI skaičiuoklė'!B6 -> 12 straipsnis 2. Biomedicininio tyrimo (išskyrus klinikinį tyrimą su medicinos priemone ir veiksmingumo tyrimą), kuriame dalyvaujančiam asmeniui tyrimo tikslais taikomi intervenciniai tyrimo metodai kelia riziką tiriamojo sveikatai, taip pat klinikinio vaistinio preparato tyrimo užsakovas ir pagrindinis tyrėjas privalo drausti savo civilinę atsakomybę dėl galimos turtinės ir neturtinės žalos, atsiradusios dėl tiriamojo sveikatos sužalojimo ar tiriamojo mirties, atlyginimo, sudarydami biomedicininio tyrimo užsakovo ir pagrindinio tyrėjo civilinės atsakomybės privalomojo draudimo sutartis su draudikais, išskyrus šio straipsnio 3 dalyje nurodytus atvejus, kai biomedicininius tyrimus leidžiama atlikti ir neturint biomedicininio tyrimo užsakovo ir pagrindinio tyrėjo civilinės atsakomybės privalomojo draudimo. <...>
A5: ='PI skaičiuoklė'!C7 -> Derinama ir pasirašoma civilinės atsakomybės draudimo sutartis
B6: A1.1 | C6: 0 | D6: 0 | E6: =+C6*D6 -> 0
B7: A1.2 | C7: 0 | D7: 0 | E7: =+C7*D7 -> 0
A8: Iš viso išlaidų medžiagoms pagal veiksmą A1 | E8: =SUM(E6:E7) -> 0
A9: ='PI skaičiuoklė'!C8 -> 0
B10: A2.1 | C10: 0 | D10: 0 | E10: =+C10*D10 -> 0
B11: A2.2 | C11: 0 | D11: 0 | E11: =+C11*D11 -> 0
A12: Iš viso išlaidų medžiagoms pagal veiksmą A2 | E12: =SUM(E10:E11) -> 0
B13: ... | C13: 0 | E13: …
A14: Iš viso išlaidų medžiagoms pagal įpareigojimą A | E14: =SUM(E8,E12) -> 0
A15: ='PI skaičiuoklė'!B11 -> 0
A16: ='PI skaičiuoklė'!C12 -> Veiksmas B1
B17: B1.1 | C17: 0 | D17: 0 | E17: =+C17*D17 -> 0
B18: B1.2 | C18: 0 | D18: 0 | E18: =+C18*D18 -> 0
A19: Iš viso išlaidų medžiagoms pagal veiksmą B1 | E19: =SUM(E17:E18) -> 0
A20: ='PI skaičiuoklė'!C13 -> Veiksmas B2
B21: B2.1 | C21: 0 | D21: 0 | E21: =+C21*D21 -> 0
B22: B2.2 | C22: 0 | D22: 0 | E22: =+C22*D22 -> 0
A23: Iš viso išlaidų medžiagoms pagal veiksmą B2 | E23: =SUM(E21:E22) -> 0
B24: ... | E24: ....
A25: Iš viso išlaidų medžiagoms pagal įpareigojimą B | E25: =SUM(E19,E23) -> 0
A33: Išlaidų medžiagoms (M) apskaičiavimas (teisės akto projektas)
A34: Teisės akto projekto straipsnis, punktas ir įpareigojimas | B34: Medžiaga arba medžiagų grupė | C34: Medžiagos kiekis / metus (svorio ar tūrio matais arba vienetais) (Q) | D34: Medžiagos (medžiagų) grupės kaina už kiekio vienetą (K) (Eur už svorio ar tūrio matą arba vienetą), Eur/kiekio matą (čiia: Vidutinė AID kaina) | E34: Išlaidos medžiagoms (M), Eur
A35: 1 | B35: 2 | C35: 3 | D35: 4 | E35: 5
A36: ='PI skaičiuoklė'!B19 -> BMTEĮ projektas 7 straipsnis. 12 straipsnio pakeitimas Pakeisti 12 straipsnį ir jį išdėstyti taip: „12 straipsnis. Turtinės ir neturtinės žalos, padarytos tiriamajam, atlyginimas Biomedicininio tyrimo, nurodyto šio įstatymo 11-1 straipsnio 1 dalyje, metu padaryta turtinė ir neturtinė žala tiriamojo sveikatai atlyginama Pacientų teisių ir žalos sveikatai atlyginimo įstatymo nustatyta tvarka.“ Pacientų įstatymo projektas 4 straipsnis. V skyriaus pakeitimas Pakeisti V skyrių ir jį išdėstyti taip: "<...> 28 straipsnis. Sąskaita 1. Įmokas į sąskaitą moka visos asmens sveikatos priežiūros įstaigos."
A37: ='PI skaičiuoklė'!C20 -> Draudimo sutartis nebereikalinga
A38: Išorinių defiibriliatorių įsigijimas | B38: A1.1 | C38: 0 | D38: 0 | E38: =+C38*D38 -> 0
B39: A1.2 | C39: 0 | D39: 0 | E39: =+C39*D39 -> 0
A40: Iš viso išlaidų medžiagoms pagal veiksmą A1 | E40: =SUM(E38:E39) -> 0
A41: ='PI skaičiuoklė'!C21 -> 0
B42: A2.1 | C42: 0 | D42: 0 | E42: =+C42*D42 -> 0
B43: A2.2 | C43: 0 | D43: 0 | E43: =+C43*D43 -> 0
A44: Iš viso išlaidų medžiagoms pagal veiksmą A2 | E44: =SUM(E42:E43) -> 0
B45: ... | E45: …
A46: Iš viso išlaidų medžiagoms pagal įpareigojimą A | E46: =SUM(E40,E44) -> 0
A47: ='PI skaičiuoklė'!B25 -> 0
A48: ='PI skaičiuoklė'!C26 -> Veiksmas B1
B49: B1.1 | C49: 0 | D49: 0 | E49: =+C49*D49 -> 0
B50: B1.2 | C50: 0 | D50: 0 | E50: =+C50*D50 -> 0
A51: Iš viso išlaidų medžiagoms pagal veiksmą B1 | E51: =SUM(E49:E50) -> 0
A52: ='PI skaičiuoklė'!C27 -> Veiksmas B2
B53: B2.1 | C53: 0 | D53: 0 | E53: =+C53*D53 -> 0
B54: B2.2 | C54: 0 | D54: 0 | E54: =+C54*D54 -> 0
A55: Iš viso išlaidų medžiagoms pagal veiksmą B2 | E55: =SUM(E53:E54) -> 0
B56: ... | E56: ....
A57: Iš viso išlaidų medžiagoms pagal įpareigojimą B | E57: =SUM(E51,E55) -> 0

Sheet Išlaidos paslaugoms
A1: Išlaidų iš išorės įsigyjamoms paslaugoms (darbams) (E) apskaičiavimas (galiojantis teisės aktas)
A2: Teisės akto straipsnis, punktas ir įpareigojimas | B2: Iš išorės įsigyjamos paslaugos (darbai) | C2: Paslaugų (darbų) kaina (E), Eur
A3: 1 | B3: 2 | C3: 3
A4: ='PI skaičiuoklė'!B6 -> 12 straipsnis 2. Biomedicininio tyrimo (išskyrus klinikinį tyrimą su medicinos priemone ir veiksmingumo tyrimą), kuriame dalyvaujančiam asmeniui tyrimo tikslais taikomi intervenciniai tyrimo metodai kelia riziką tiriamojo sveikatai, taip pat klinikinio vaistinio preparato tyrimo užsakovas ir pagrindinis tyrėjas privalo drausti savo civilinę atsakomybę dėl galimos turtinės ir neturtinės žalos, atsiradusios dėl tiriamojo sveikatos sužalojimo ar tiriamojo mirties, atlyginimo, sudarydami biomedicininio tyrimo užsakovo ir pagrindinio tyrėjo civilinės atsakomybės privalomojo draudimo sutartis su draudikais, išskyrus šio straipsnio 3 dalyje nurodytus atvejus, kai biomedicininius tyrimus leidžiama atlikti ir neturint biomedicininio tyrimo užsakovo ir pagrindinio tyrėjo civilinės atsakomybės privalomojo draudimo. <...>
A5: ='PI skaičiuoklė'!C7 -> Derinama ir pasirašoma civilinės atsakomybės draudimo sutartis
A6: ='PI skaičiuoklė'!D42 -> 1804.6092 | B6: 143 | C6: =+A6*B6 -> 258059.12
A8: Iš viso išlaidų iš išorės įsigyjamoms paslaugoms (darbams) pagal veiksmą A1 | C8: =SUM(C6:C7) -> 258059.12
A9: ='PI skaičiuoklė'!C8 -> 0
B10: A2.1 | C10: 0
B11: A2.2 | C11: 0
A12: Iš viso išlaidų iš išorės įsigyjamoms paslaugoms (darbams) pagal veiksmą A2 | C12: =SUM(C10:C11) -> 0
B13: ...
A14: Iš viso išlaidų iš išorės įsigyjamoms paslaugoms (darbams) pagal įpareigojimą A | C14: =SUM(C8,C12) -> 258059.12
A15: ='PI skaičiuoklė'!B11 -> 0
A16: ='PI skaičiuoklė'!C12 -> Veiksmas B1
B17: B1.1 | C17: 0
B18: B1.2 | C18: 0
A19: Iš viso išlaidų iš išorės įsigyjamoms paslaugoms (darbams) pagal veiksmą B1 | C19: =SUM(C17:C18) -> 0
A20: ='PI skaičiuoklė'!C13 -> Veiksmas B2
B21: B2.1 | C21: 0
B22: B2.2 | C22: 0
A23: Iš viso išlaidų iš išorės įsigyjamoms paslaugoms (darbams) pagal veiksmą B2 | C23: =SUM(C21:C22) -> 0
B24: ... | C24: ...
A25: Iš viso išlaidų iš išorės įsigyjamoms paslaugoms (darbams) pagal įpareigojimą B | C25: =SUM(C19,C23) -> 0
A32: Išlaidų iš išorės įsigyjamoms paslaugoms (darbams) (E) apskaičiavimas (teisės akto projektas)
A33: Teisės akto projekto straipsnis, punktas ir įpareigojimas | B33: Iš išorės įsigyjamos paslaugos (darbai) | C33: Paslaugų (darbų) kaina (E), Eur
A34: 1 | B34: 2 | C34: 3
A35: ='PI skaičiuoklė'!B19 -> BMTEĮ projektas 7 straipsnis. 12 straipsnio pakeitimas Pakeisti 12 straipsnį ir jį išdėstyti taip: „12 straipsnis. Turtinės ir neturtinės žalos, padarytos tiriamajam, atlyginimas Biomedicininio tyrimo, nurodyto šio įstatymo 11-1 straipsnio 1 dalyje, metu padaryta turtinė ir neturtinė žala tiriamojo sveikatai atlyginama Pacientų teisių ir žalos sveikatai atlyginimo įstatymo nustatyta tvarka.“ Pacientų įstatymo projektas 4 straipsnis. V skyriaus pakeitimas Pakeisti V skyrių ir jį išdėstyti taip: "<...> 28 straipsnis. Sąskaita 1. Įmokas į sąskaitą moka visos asmens sveikatos priežiūros įstaigos."
A36: ='PI skaičiuoklė'!C20 -> Draudimo sutartis nebereikalinga
C37: =+A37*B37 -> 0
B38: A1.2 | C38: 0
A39: Iš viso išlaidų iš išorės įsigyjamoms paslaugoms (darbams) pagal veiksmą A1 | C39: =SUM(C37:C38) -> 0
A40: ='PI skaičiuoklė'!C21 -> 0
B41: A2.1 | C41: 0
B42: A2.2 | C42: 0
A43: Iš viso išlaidų iš išorės įsigyjamoms paslaugoms (darbams) pagal veiksmą A2 | C43: =SUM(C41:C42) -> 0
B44: ...
A45: Iš viso išlaidų iš išorės įsigyjamoms paslaugoms (darbams) pagal įpareigojimą A | C45: =SUM(C39,C43) -> 0
A46: ='PI skaičiuoklė'!B25 -> 0
A47: ='PI skaičiuoklė'!C26 -> Veiksmas B1
B48: B1.1 | C48: 0
B49: B1.2 | C49: 0
A50: Iš viso išlaidų iš išorės įsigyjamoms paslaugoms (darbams) pagal veiksmą B1 | C50: =SUM(C48:C49) -> 0
A51: ='PI skaičiuoklė'!C27 -> Veiksmas B2
B52: B2.1 | C52: 0
B53: B2.2 | C53: 0
A54: Iš viso išlaidų iš išorės įsigyjamoms paslaugoms (darbams) pagal veiksmą B2 | C54: =SUM(C52:C53) -> 0
B55: ... | C55: ...
A56: Iš viso išlaidų iš išorės įsigyjamoms paslaugoms (darbams) pagal įpareigojimą B | C56: =SUM(C50,C54) -> 0
